BEGIN:VCALENDAR
PRODID:NingEventWidget-v1
VERSION:2.0
METHOD:PUBLISH
BEGIN:VTIMEZONE
TZID:America/Los_Angeles
X-LIC-LOCATION:America/Los_Angeles
BEGIN:DAYLIGHT
TZOFFSETFROM:-0800
TZOFFSETTO:-0700
TZNAME:PDT
DTSTART:19700308T020000
RRULE:FREQ=YEARLY;BYMONTH=3;BYDAY=2SU
END:DAYLIGHT
BEGIN:STANDARD
TZOFFSETFROM:-0700
TZOFFSETTO:-0800
TZNAME:PST
DTSTART:19701101T020000
RRULE:FREQ=YEARLY;BYMONTH=11;BYDAY=1SU
END:STANDARD
END:VTIMEZONE
BEGIN:VEVENT
UID:1464587:Event:634527
DTSTAMP:20260421T185444Z
SUMMARY:Inner Circle + Gonzo (Tribal Seeds) & Warrior King
DESCRIPTION:ENTER TO WIN A PAIR OF TICKETS. WINNER WILL BE DRAWN RANDO
 MLY AND ANNOUNCED 2 DAYS PRIOR TO EVENT. \n WEDNESDAY, AUG 19 Earshot
  Entertainment, Dee Cee Soul Shakedown & Shownuff Ent present: Inner C
 ircle with Gonzo (Tribal Seeds) & Warrior King  MEZZANINE 444 Jessie S
 t, San Francisco, California 94103 Get tickets: http://ticketf.ly/1Jqp
 JI3   When looking at Inner Circle and their 20 year plus history in t
 he reggae field there is much more than what meets the eye. This Jamai
 can bred, Grammy award winning quintet, is one of the world’s most r
 espected reggae groups with a long string of successes stretching back
  to the mid-70′s. Inner Circle blends a special style of pop-oriente
 d Jamaican beats and energy that have made them the leading stars of t
 heir movement. Their spirit through the power of reggae within live pe
 rformances has allowed the band to transcend the traditional reggae ni
 che and create a widespread crossover appeal. Inner Circle plays at ma
 ny of the world’s largest music festivals, headlining alongside such
  towering pop and rock music icons as Elton John, Van Morrison, Jimmy 
 Page, Robert Plant, Carlos Santana, and many others.\n\n\n\nFor more i
 nformation visit http://trueskool.com/events/inner-circle-gonzo-tribal
 -seeds-warrior-king
DTSTART;TZID=America/Los_Angeles:20150819T200000
DTEND;TZID=America/Los_Angeles:20150819T230000
CATEGORIES:"bay area", "san francisco"
LOCATION:Mezzanine, San Francisco
WEBSITE:http://ticketf.ly/1JqpJI3
URL:http://ticketf.ly/1JqpJI3
CONTACT:
ORGANIZER:Earshot Entertainment, Dee Cee Soul Shakedown & Shownuff Ent
ATTACH;FMTTYPE="image/jpeg":http://storage.ning.com/topology/rest/1.0/
 file/get/2247978973?profile=original
ATTENDEE;ROLE=REQ-PARTICIPANT;PARTSTAT=ACCEPTED;RSVP=TRUE;CN=strilicio
 us:http://trueskool.com/profile/strilicious
ATTENDEE;ROLE=REQ-PARTICIPANT;PARTSTAT=ACCEPTED;RSVP=TRUE;CN="Editor's
  Pick":http://trueskool.com/profile/RentheVinylArchaeologist
END:VEVENT
END:VCALENDAR
