BEGIN:VCALENDAR
PRODID:NingEventWidget-v1
VERSION:2.0
METHOD:PUBLISH
BEGIN:VTIMEZONE
TZID:America/Los_Angeles
X-LIC-LOCATION:America/Los_Angeles
BEGIN:DAYLIGHT
TZOFFSETFROM:-0800
TZOFFSETTO:-0700
TZNAME:PDT
DTSTART:19700308T020000
RRULE:FREQ=YEARLY;BYMONTH=3;BYDAY=2SU
END:DAYLIGHT
BEGIN:STANDARD
TZOFFSETFROM:-0700
TZOFFSETTO:-0800
TZNAME:PST
DTSTART:19701101T020000
RRULE:FREQ=YEARLY;BYMONTH=11;BYDAY=1SU
END:STANDARD
END:VTIMEZONE
BEGIN:VEVENT
UID:1464587:Event:342208
DTSTAMP:20260421T000410Z
SUMMARY:Infinity Funk
DESCRIPTION:We back at it for another edition of Infinity Funk. This m
 onth's lineup is definitely family focused and one not to be missed. M
 ore details coming shortly. Click on the FB links for a sample of musi
 c and info.Multiple Organisms https://www.facebook.com/MultipleOrgani
 smsNu Dekades feat. Anjel Diazhttps://www.facebook.com/pages/Nu-Dekade
 s/209058669141083Paulie Rhyme (w. Luis Hernandez)https://www.facebook.
 com/paulierhymeL ToThe (Focho Clique)https://www.facebook.com/LToThewi
 th Dj Madd Hatter (NoHarmNoFowl) and Rod Rod (Digital Martyrs) on the 
 1s and 2s.\n\nFor more information visit http://trueskool.com/events/i
 nfinity-funk
DTSTART;TZID=America/Los_Angeles:20140419T210000
DTEND;TZID=America/Los_Angeles:20140420T000000
CATEGORIES:oakland, hip, hop, bay, area, soul, funk
LOCATION:Legionnaire Saloon
WEBSITE:http://www.legionnairesaloon.com
URL:http://www.legionnairesaloon.com
CONTACT:
ORGANIZER;CN="Paulie Rhyme":http://trueskool.com/profile/PaulieRhyme
ATTACH;FMTTYPE="image/jpeg":http://storage.ning.com/topology/rest/1.0/
 file/get/2247960880?profile=original
ATTENDEE;ROLE=REQ-PARTICIPANT;PARTSTAT=ACCEPTED;RSVP=TRUE;CN="Paulie R
 hyme":http://trueskool.com/profile/PaulieRhyme
END:VEVENT
END:VCALENDAR
