BEGIN:VCALENDAR
PRODID:NingEventWidget-v1
VERSION:2.0
METHOD:PUBLISH
BEGIN:VTIMEZONE
TZID:America/Los_Angeles
X-LIC-LOCATION:America/Los_Angeles
BEGIN:DAYLIGHT
TZOFFSETFROM:-0800
TZOFFSETTO:-0700
TZNAME:PDT
DTSTART:19700308T020000
RRULE:FREQ=YEARLY;BYMONTH=3;BYDAY=2SU
END:DAYLIGHT
BEGIN:STANDARD
TZOFFSETFROM:-0700
TZOFFSETTO:-0800
TZNAME:PST
DTSTART:19701101T020000
RRULE:FREQ=YEARLY;BYMONTH=11;BYDAY=1SU
END:STANDARD
END:VTIMEZONE
BEGIN:VEVENT
UID:1464587:Event:382586
DTSTAMP:20260421T070813Z
SUMMARY:Independents Day (A Night of Independent Music) w/ Kevvy Kev, 
 Rolo 1-3, Toph 1 and Ren the Vinyl Archaeologist
DESCRIPTION: FRIDAY JULY 4\nINDEPENDENTS DAY\nThis 4th of July, come c
 elebrate *INDEPENDENTS* w/us!!!! For all those tired of the cookie-cut
 ter, major label nonsense, we're bringing you the hottest b-sides, rar
 ities and underheard sounds, at Club f8. . .it's the cure for what ail
 s ya!!!\nFeaturing: Kevvy Kev\nRolo 1-3\nRen the Vinyl Archaeologist\n
 Toph 1, Steady-P and the Team Wino lunatics\n@ F8, 1192 Folsom St., Sa
 n Francisco  8pm-3am | 21+\nFREE w/ RSVP to info@feightsf.com\n\nFor m
 ore information visit http://trueskool.com/events/independents-day-a-n
 ight-of-independent-music-w-kevvy-kev-rolo-1-
DTSTART;TZID=America/Los_Angeles:20140704T210000
DTEND;TZID=America/Los_Angeles:20140705T030000
CATEGORIES:"bay area", "san francisco"
LOCATION:F8
WEBSITE:https://www.facebook.com/events/305743476261071/
URL:https://www.facebook.com/events/305743476261071/
CONTACT:
ORGANIZER;CN="Staff Pick":http://trueskool.com/profile/Ren
ATTACH;FMTTYPE="image/jpeg":http://storage.ning.com/topology/rest/1.0/
 file/get/2247962580?profile=original
ATTENDEE;ROLE=REQ-PARTICIPANT;PARTSTAT=ACCEPTED;RSVP=TRUE;CN="Staff Pi
 ck":http://trueskool.com/profile/Ren
END:VEVENT
END:VCALENDAR
