BEGIN:VCALENDAR
PRODID:NingEventWidget-v1
VERSION:2.0
METHOD:PUBLISH
BEGIN:VTIMEZONE
TZID:America/Los_Angeles
X-LIC-LOCATION:America/Los_Angeles
BEGIN:DAYLIGHT
TZOFFSETFROM:-0800
TZOFFSETTO:-0700
TZNAME:PDT
DTSTART:19700308T020000
RRULE:FREQ=YEARLY;BYMONTH=3;BYDAY=2SU
END:DAYLIGHT
BEGIN:STANDARD
TZOFFSETFROM:-0700
TZOFFSETTO:-0800
TZNAME:PST
DTSTART:19701101T020000
RRULE:FREQ=YEARLY;BYMONTH=11;BYDAY=1SU
END:STANDARD
END:VTIMEZONE
BEGIN:VEVENT
UID:1464587:Event:550105
DTSTAMP:20260420T232230Z
SUMMARY:Immortal Technique & Talib Kweli (Los Angeles)
DESCRIPTION:\nDate\nLocation\nEvent Details\nFind Tickets\n\n\n \n\n\
 n\n\n\n MAR  \n26\nTHU\n\nThe ObservatorySanta Ana, CA08:00 PM\n\n
 Immortal Technique & Talib KweliDetails: Immortal Technique, Talib Kw
 eli\nSee Ticketson TicketWeb\n\n\n\n\n\nFor more information visit htt
 p://trueskool.com/events/immortal-technique-talib-kweli-los-angeles
DTSTART;TZID=America/Los_Angeles:20150326T200000
DTEND;TZID=America/Los_Angeles:20150326T230000
CATEGORIES:"los angeles", la, "santa anna", california, ca
LOCATION:The Observatory, Santa Anna
WEBSITE:http://www.ticketmaster.com/partner_redirect?v=oGskRq9D9x5trc7
 p2p41yLTGxyTxwFcbIxhkyvAMFVV0Rs_8Tm_RquzgZh0BHN11ka062os8HF1fOCg9aTDWF
 hFTUvoFe7LXnq0zqmNx3ANU8-JWq-hFY7Zjr1f5dzu_N8TN1qabpqOYX2qOoCgamfflAbl
 VQ8oFFnHxHAZLo6RCujDAzUBNPLC8PTBLTpVN4SuZlnA8YtMEtHHg_A&eventid=29004E
 2F4DC4166D&artistid=964035&artistname=Immortal%20Technique%20&%20Talib
 %20Kweli&crosssite=TM_US:964035:73867
URL:http://www.ticketmaster.com/partner_redirect?v=oGskRq9D9x5trc7p2p4
 1yLTGxyTxwFcbIxhkyvAMFVV0Rs_8Tm_RquzgZh0BHN11ka062os8HF1fOCg9aTDWFhFTU
 voFe7LXnq0zqmNx3ANU8-JWq-hFY7Zjr1f5dzu_N8TN1qabpqOYX2qOoCgamfflAblVQ8o
 FFnHxHAZLo6RCujDAzUBNPLC8PTBLTpVN4SuZlnA8YtMEtHHg_A&eventid=29004E2F4D
 C4166D&artistid=964035&artistname=Immortal%20Technique%20&%20Talib%20K
 weli&crosssite=TM_US:964035:73867
CONTACT:
ORGANIZER;CN="Editor's Pick":http://trueskool.com/profile/RentheVinylA
 rchaeologist
ATTACH;FMTTYPE="image/jpeg":http://storage.ning.com/topology/rest/1.0/
 file/get/2247893290?profile=original
ATTENDEE;ROLE=REQ-PARTICIPANT;PARTSTAT=ACCEPTED;RSVP=TRUE;CN="Editor's
  Pick":http://trueskool.com/profile/RentheVinylArchaeologist
END:VEVENT
END:VCALENDAR
