BEGIN:VCALENDAR
PRODID:NingEventWidget-v1
VERSION:2.0
METHOD:PUBLISH
BEGIN:VTIMEZONE
TZID:America/Los_Angeles
X-LIC-LOCATION:America/Los_Angeles
BEGIN:DAYLIGHT
TZOFFSETFROM:-0800
TZOFFSETTO:-0700
TZNAME:PDT
DTSTART:19700308T020000
RRULE:FREQ=YEARLY;BYMONTH=3;BYDAY=2SU
END:DAYLIGHT
BEGIN:STANDARD
TZOFFSETFROM:-0700
TZOFFSETTO:-0800
TZNAME:PST
DTSTART:19701101T020000
RRULE:FREQ=YEARLY;BYMONTH=11;BYDAY=1SU
END:STANDARD
END:VTIMEZONE
BEGIN:VEVENT
UID:1464587:Event:550272
DTSTAMP:20260421T090023Z
SUMMARY:Iggy Azalea (Los Angeles)
DESCRIPTION:\nDate\nLocation\nEvent Details\nFind Tickets\n\n\nAPR  
 \n21\nTUE\n\nSTAPLES CenterLos Angeles, CA07:30 PM\n\nIggy AzaleaDeta
 ils: Iggy Azalea, Nick Jonas, Tinashe\nSee Ticketson Partner Site\n\
 n\n\n\n\n\n\nFor more information visit http://trueskool.com/events/ig
 gy-azalea-los-angeles
DTSTART;TZID=America/Los_Angeles:20150421T193000
DTEND;TZID=America/Los_Angeles:20150421T230000
CATEGORIES:"los angeles", la, california, ca
LOCATION:Staples Center, Los Angeles
WEBSITE:http://www.ticketmaster.com/partner_redirect?v=JzEiwuBNP883VmB
 iWamM_-o0RWsQve8pZbgfzfheCSRrubxRRzEAPKC1PblUYASnEv7DOH_N0XdA_qunytgeP
 2tTpeyTk-E7MjHd9GBmwIvUZwisfnOryqBgaO5Oi5u9eSaqSheOPoBS3wkIR_askQ&even
 tid=2C004D8C06131045&artistid=1683951&artistname=Iggy%20Azalea
URL:http://www.ticketmaster.com/partner_redirect?v=JzEiwuBNP883VmBiWam
 M_-o0RWsQve8pZbgfzfheCSRrubxRRzEAPKC1PblUYASnEv7DOH_N0XdA_qunytgeP2tTp
 eyTk-E7MjHd9GBmwIvUZwisfnOryqBgaO5Oi5u9eSaqSheOPoBS3wkIR_askQ&eventid=
 2C004D8C06131045&artistid=1683951&artistname=Iggy%20Azalea
CONTACT:
ORGANIZER;CN="Editor's Pick":http://trueskool.com/profile/RentheVinylA
 rchaeologist
ATTACH;FMTTYPE="image/jpeg":http://storage.ning.com/topology/rest/1.0/
 file/get/2247972999?profile=original
ATTENDEE;ROLE=REQ-PARTICIPANT;PARTSTAT=ACCEPTED;RSVP=TRUE;CN="Editor's
  Pick":http://trueskool.com/profile/RentheVinylArchaeologist
END:VEVENT
END:VCALENDAR
