BEGIN:VCALENDAR
PRODID:NingEventWidget-v1
VERSION:2.0
METHOD:PUBLISH
BEGIN:VTIMEZONE
TZID:America/Los_Angeles
X-LIC-LOCATION:America/Los_Angeles
BEGIN:DAYLIGHT
TZOFFSETFROM:-0800
TZOFFSETTO:-0700
TZNAME:PDT
DTSTART:19700308T020000
RRULE:FREQ=YEARLY;BYMONTH=3;BYDAY=2SU
END:DAYLIGHT
BEGIN:STANDARD
TZOFFSETFROM:-0700
TZOFFSETTO:-0800
TZNAME:PST
DTSTART:19701101T020000
RRULE:FREQ=YEARLY;BYMONTH=11;BYDAY=1SU
END:STANDARD
END:VTIMEZONE
BEGIN:VEVENT
UID:1464587:Event:550178
DTSTAMP:20260420T185914Z
SUMMARY:Iggy Azalea (Chicago)
DESCRIPTION:\nDate\nLocation\nEvent Details\nFind Tickets\n\n\nMAY  
 \n1\nFRI\n\n    Allstate  Arena Rosemont, IL 07:30 PM\n\n Iggy 
 Azalea  Details: Iggy Azalea,  \nNick   Jonas, Tinashe\n\nSee Tick
 ets\n\n\n\n\nFor more information visit http://trueskool.com/events/ig
 gy-azalea-chicago
DTSTART;TZID=America/Los_Angeles:20150501T193000
DTEND;TZID=America/Los_Angeles:20150501T230000
CATEGORIES:chicago, chi, illinois, rosemont
LOCATION:Allstate Arena, Chicago
WEBSITE:http://www.ticketmaster.com/iggy-azalea-rosemont-illinois-05-0
 1-2015/event/04004D86C20E2FAA?artistid=1683951&majorcatid=10001&minorc
 atid=3&tm_link=artist_msg-0_04004D86C20E2FAA
URL:http://www.ticketmaster.com/iggy-azalea-rosemont-illinois-05-01-20
 15/event/04004D86C20E2FAA?artistid=1683951&majorcatid=10001&minorcatid
 =3&tm_link=artist_msg-0_04004D86C20E2FAA
CONTACT:
ORGANIZER;CN="Editor's Pick":http://trueskool.com/profile/RentheVinylA
 rchaeologist
ATTACH;FMTTYPE="image/jpeg":http://storage.ning.com/topology/rest/1.0/
 file/get/2247972999?profile=original
ATTENDEE;ROLE=REQ-PARTICIPANT;PARTSTAT=ACCEPTED;RSVP=TRUE;CN="Editor's
  Pick":http://trueskool.com/profile/RentheVinylArchaeologist
END:VEVENT
END:VCALENDAR
