BEGIN:VCALENDAR
PRODID:NingEventWidget-v1
VERSION:2.0
METHOD:PUBLISH
BEGIN:VTIMEZONE
TZID:America/Los_Angeles
X-LIC-LOCATION:America/Los_Angeles
BEGIN:DAYLIGHT
TZOFFSETFROM:-0800
TZOFFSETTO:-0700
TZNAME:PDT
DTSTART:19700308T020000
RRULE:FREQ=YEARLY;BYMONTH=3;BYDAY=2SU
END:DAYLIGHT
BEGIN:STANDARD
TZOFFSETFROM:-0700
TZOFFSETTO:-0800
TZNAME:PST
DTSTART:19701101T020000
RRULE:FREQ=YEARLY;BYMONTH=11;BYDAY=1SU
END:STANDARD
END:VTIMEZONE
BEGIN:VEVENT
UID:1464587:Event:651724
DTSTAMP:20260420T234618Z
SUMMARY:IAMSU!
DESCRIPTION:IAMSU!Kool John, Dave Steezy, Skipper, Show Banga\nSaturda
 y, August 27, 2016Doors: 7:00PM |Show: 8:00PM982 Market StreetSan Fran
 cisco, CA 94102(415) 345-0900THE WARFIELD\n\nFor more information visi
 t http://trueskool.com/events/iamsu
DTSTART;TZID=America/Los_Angeles:20160827T190000
DTEND;TZID=America/Los_Angeles:20160827T230000
CATEGORIES:"san francisco", oakland, berkley, "san jose", "bay area"
LOCATION:The Warfield, San Francisco
WEBSITE:http://www.axs.com/events/311696/iamsu-tickets?skin=goldenvoic
 e
URL:http://www.axs.com/events/311696/iamsu-tickets?skin=goldenvoice
CONTACT:
ORGANIZER;CN="Editor's Pick":http://trueskool.com/profile/RentheVinylA
 rchaeologist
ATTACH;FMTTYPE="image/jpeg":http://storage.ning.com/topology/rest/1.0/
 file/get/2247989677?profile=original
ATTENDEE;ROLE=REQ-PARTICIPANT;PARTSTAT=ACCEPTED;RSVP=TRUE;CN="Editor's
  Pick":http://trueskool.com/profile/RentheVinylArchaeologist
END:VEVENT
END:VCALENDAR
