BEGIN:VCALENDAR
PRODID:NingEventWidget-v1
VERSION:2.0
METHOD:PUBLISH
BEGIN:VTIMEZONE
TZID:America/Los_Angeles
X-LIC-LOCATION:America/Los_Angeles
BEGIN:DAYLIGHT
TZOFFSETFROM:-0800
TZOFFSETTO:-0700
TZNAME:PDT
DTSTART:19700308T020000
RRULE:FREQ=YEARLY;BYMONTH=3;BYDAY=2SU
END:DAYLIGHT
BEGIN:STANDARD
TZOFFSETFROM:-0700
TZOFFSETTO:-0800
TZNAME:PST
DTSTART:19701101T020000
RRULE:FREQ=YEARLY;BYMONTH=11;BYDAY=1SU
END:STANDARD
END:VTIMEZONE
BEGIN:VEVENT
UID:1464587:Event:632404
DTSTAMP:20260421T170106Z
SUMMARY:IAMSU! w/ D.R.A.M., Nef The Pharaoh (WIN TICKETS)
DESCRIPTION: ENTER TO WIN A PAIR OF TICKETS. WINNER WILL BE DRAWN RAND
 OMLY AND ANNOUNCED 2 DAYS PRIOR TO EVENT.  \n\n\n Sat, Aug 15, 2015\
 nIAMSU!\nD.R.A.M., Nef The Pharaoh\nThe Regency Ballroom 1300 Van Ness
  Avenue\nSan Francisco, CA 94109\nAges: All Ages\nDoors: 7:00PM. Show:
  8:00PM\nPrice: $30.00\nDoor Price: $32.00\nOnsale: Wed, Jul 1, 2015 -
  10:00AM PDT\n\n\nFor more information visit http://trueskool.com/even
 ts/iamsu-w-d-r-a-m-nef-the-pharaoh
DTSTART;TZID=America/Los_Angeles:20150815T190000
DTEND;TZID=America/Los_Angeles:20150815T230000
CATEGORIES:"bay area", "san francisco"
LOCATION:The Regency Ballroom, SF
WEBSITE:http://www.axs.com/events/280112/iamsu-tickets?CID=REG_IAMSU_T
 rueSkool
URL:http://www.axs.com/events/280112/iamsu-tickets?CID=REG_IAMSU_TrueS
 kool
CONTACT:
ORGANIZER:Goldenvoice
ATTACH;FMTTYPE="image/jpeg":http://storage.ning.com/topology/rest/1.0/
 file/get/2247977945?profile=original
ATTENDEE;ROLE=REQ-PARTICIPANT;PARTSTAT=ACCEPTED;RSVP=TRUE;CN="Editor's
  Pick":http://trueskool.com/profile/RentheVinylArchaeologist
END:VEVENT
END:VCALENDAR
