BEGIN:VCALENDAR
PRODID:NingEventWidget-v1
VERSION:2.0
METHOD:PUBLISH
BEGIN:VTIMEZONE
TZID:America/Los_Angeles
X-LIC-LOCATION:America/Los_Angeles
BEGIN:DAYLIGHT
TZOFFSETFROM:-0800
TZOFFSETTO:-0700
TZNAME:PDT
DTSTART:19700308T020000
RRULE:FREQ=YEARLY;BYMONTH=3;BYDAY=2SU
END:DAYLIGHT
BEGIN:STANDARD
TZOFFSETFROM:-0700
TZOFFSETTO:-0800
TZNAME:PST
DTSTART:19701101T020000
RRULE:FREQ=YEARLY;BYMONTH=11;BYDAY=1SU
END:STANDARD
END:VTIMEZONE
BEGIN:VEVENT
UID:1464587:Event:654630
DTSTAMP:20260421T070558Z
SUMMARY:Hyphy Halloween 2016 feat. Sage The Gemini, Mike Will Made-It,
  P-Lo, DJ Esco
DESCRIPTION: ENTER TO WIN A PAIR OF TICKETS. WINNER WILL BE DRAWN RAND
 OMLY AND ANNOUNCED 2 DAYS PRIOR TO EVENT.Â \n\n SATURDAY, OCT 29\nHyph
 y Halloween 2016\nSage The Gemini, Mike Will Made-It, P-Lo, DJ Esco\nH
 osted by DJ Amen\n@ The Warfield 982 Market Street San Francisco, CA Â
  (415) 345-0900 Ages: All Ages\nDoors Open: 7:00 PM\n>> BUY TICKETS\n 
 \n\n\n\nFor more information visit http://trueskool.com/events/hyphy-h
 alloween-2016-feat-sage-the-gemini-mike-will-made-it-p-lo-
DTSTART;TZID=America/Los_Angeles:20161029T190000
DTEND;TZID=America/Los_Angeles:20161029T230000
CATEGORIES:"bay area", "san francisco"
LOCATION:The Warfield, San Francisco
WEBSITE:http://www.axs.com/events/326288/sage-the-gemini-mike-will-mad
 e-it-p-lo-dj-esco-tickets?cid=gvsf_hyphy_truskl
URL:http://www.axs.com/events/326288/sage-the-gemini-mike-will-made-it
 -p-lo-dj-esco-tickets?cid=gvsf_hyphy_truskl
CONTACT:
ORGANIZER:Goldenvoice
ATTACH;FMTTYPE="image/jpeg":http://storage.ning.com/topology/rest/1.0/
 file/get/2247992054?profile=original
ATTENDEE;ROLE=REQ-PARTICIPANT;PARTSTAT=ACCEPTED;RSVP=TRUE;CN="Editor's
  Pick":http://trueskool.com/profile/RentheVinylArchaeologist
END:VEVENT
END:VCALENDAR
