BEGIN:VCALENDAR
PRODID:NingEventWidget-v1
VERSION:2.0
METHOD:PUBLISH
BEGIN:VTIMEZONE
TZID:America/Los_Angeles
X-LIC-LOCATION:America/Los_Angeles
BEGIN:DAYLIGHT
TZOFFSETFROM:-0800
TZOFFSETTO:-0700
TZNAME:PDT
DTSTART:19700308T020000
RRULE:FREQ=YEARLY;BYMONTH=3;BYDAY=2SU
END:DAYLIGHT
BEGIN:STANDARD
TZOFFSETFROM:-0700
TZOFFSETTO:-0800
TZNAME:PST
DTSTART:19701101T020000
RRULE:FREQ=YEARLY;BYMONTH=11;BYDAY=1SU
END:STANDARD
END:VTIMEZONE
BEGIN:VEVENT
UID:1464587:Event:661024
DTSTAMP:20260420T214828Z
SUMMARY:HUSHfest: Ocean Beach feat. ALI SHAHEED MUHAMMAD of A Tribe Ca
 lled Quest
DESCRIPTION:\nSaturday, June 3 HUSHconcerts presents  HUSHfest: Ocean 
 Beach\nfeaturing an exclusive closing set by  ALI SHAHEED MUHAMMAD of 
 A Tribe Called Quest\n\nand special guests on 2 channels, QDUP (Fort K
 nox Recordings), EVERYMAN (Pumpkin Tribute Set), ZACH MOORE (The Armor
 y Podcast), SHOOEY (Space Cowboys) DJ DIALS (Sound Pieces), UMAMI (Gol
 den State Warriors), DJ REN (True Skool), DJ PLATURN (Oakland Faders),
  DJ ALARM (More SF)  Ocean Beach, San Francisco | Kelly's Cove | Great
  Highway @ Balboa\nNoon-7pm All Ages | Child 12 & under free with a ti
 cketed parent\n>> BUY TICKETS\n SEE YOU ON THE BEACH!\n\nFor more info
 rmation visit http://trueskool.com/events/hushfest-ocean-beach-feat-al
 i-shaheed-muhammad-of-a-tribe-called-
DTSTART;TZID=America/Los_Angeles:20170603T120000
DTEND;TZID=America/Los_Angeles:20170603T190000
CATEGORIES:"bay area", "san francisco"
LOCATION:Ocean Beach, San Francisco
WEBSITE:http://bit.ly/HUSHfestOBren
URL:http://bit.ly/HUSHfestOBren
CONTACT:
ORGANIZER:HUSHconcerts
ATTACH;FMTTYPE="image/jpeg":http://storage.ning.com/topology/rest/1.0/
 file/get/2247994804?profile=original
ATTENDEE;ROLE=REQ-PARTICIPANT;PARTSTAT=ACCEPTED;RSVP=TRUE;CN="Ren the 
 Vinyl Archaeologist":http://trueskool.com/profile/xh51jvilojur
END:VEVENT
END:VCALENDAR
