BEGIN:VCALENDAR
PRODID:NingEventWidget-v1
VERSION:2.0
METHOD:PUBLISH
BEGIN:VTIMEZONE
TZID:America/Los_Angeles
X-LIC-LOCATION:America/Los_Angeles
BEGIN:DAYLIGHT
TZOFFSETFROM:-0800
TZOFFSETTO:-0700
TZNAME:PDT
DTSTART:19700308T020000
RRULE:FREQ=YEARLY;BYMONTH=3;BYDAY=2SU
END:DAYLIGHT
BEGIN:STANDARD
TZOFFSETFROM:-0700
TZOFFSETTO:-0800
TZNAME:PST
DTSTART:19701101T020000
RRULE:FREQ=YEARLY;BYMONTH=11;BYDAY=1SU
END:STANDARD
END:VTIMEZONE
BEGIN:VEVENT
UID:1464587:Event:676800
DTSTAMP:20260421T011140Z
SUMMARY:HUSHfest: Lake Merritt [Silent Disco]
DESCRIPTION:\r\nSATURDAY, JULY 28\r\nHUSHfest: Lake Merritt\r\nJoin HU
 SHconcerts at Lake Merritt for a 3-Channel Oakland HUSHfest featuring 
 DJs from the Brass Tax & Pizza and Techno crews along with our own sel
 ection of HUSH talent throwing down silent disco beats all day long la
 keside at The Pergola! Bring some blankets, beverages, bites, and boda
 cious bodies to boogie the day away! As always, creative outfits are e
 ncouraged!\r\n\r\nHUSH: Motion Potion • DJ Platurn • Dj Mancub •
  Ren the Vinyl Archaeologist\r\nBrass Tax: Alex Mace (Mace) • Haute 
 Mess • Ernie Trevino • More TBA\r\nPizza and Techno: Late Eighties
  • Racket Club • Willaa • Audiowall • Reid Elliot • n808\r\n
 \r\nThe Pergola at Lake Merritt • 599 El Embarcadero • Oakland\r\n
 Presale tickets are only $10 and are sure to go fast so get yours now!
 >> BUY TICKETS\r\n\n\nFor more information visit http://trueskool.com/
 events/hushfest-lake-merritt-silent-disco
DTSTART;TZID=America/Los_Angeles:20180728T130000
DTEND;TZID=America/Los_Angeles:20180728T190000
CATEGORIES:"bay area", oakland
LOCATION:The Pergola at Lake Merritt
WEBSITE:http://bit.ly/RenArchMerritt
URL:http://bit.ly/RenArchMerritt
CONTACT:
ORGANIZER:HUSHconcerts
ATTACH;FMTTYPE="image/jpeg":http://storage.ning.com/topology/rest/1.0/
 file/get/2248009030?profile=original
ATTENDEE;ROLE=REQ-PARTICIPANT;PARTSTAT=ACCEPTED;RSVP=TRUE;CN="Editor's
  Pick":http://trueskool.com/profile/RentheVinylArchaeologist
END:VEVENT
END:VCALENDAR
