BEGIN:VCALENDAR
PRODID:NingEventWidget-v1
VERSION:2.0
METHOD:PUBLISH
BEGIN:VTIMEZONE
TZID:America/Los_Angeles
X-LIC-LOCATION:America/Los_Angeles
BEGIN:DAYLIGHT
TZOFFSETFROM:-0800
TZOFFSETTO:-0700
TZNAME:PDT
DTSTART:19700308T020000
RRULE:FREQ=YEARLY;BYMONTH=3;BYDAY=2SU
END:DAYLIGHT
BEGIN:STANDARD
TZOFFSETFROM:-0700
TZOFFSETTO:-0800
TZNAME:PST
DTSTART:19701101T020000
RRULE:FREQ=YEARLY;BYMONTH=11;BYDAY=1SU
END:STANDARD
END:VTIMEZONE
BEGIN:VEVENT
UID:1464587:Event:543012
DTSTAMP:20260420T173017Z
SUMMARY:HUSHconcerts presents GRiZ with guests: The Floozies Muzzy
DESCRIPTION:\nVenue:\nMezzanine\n\nLocation:\nSan Francisco, CA\n\nSho
 w Date:\nSaturday, May 2\n\nShow Time:\n9:00PM\n\nOn Sale Date:\nFrida
 y, January 30\n\nTicket Price:\n$25.00 - General Admission*plus applic
 able service fees\n\n\n\n\n\nFor more information visit http://truesko
 ol.com/events/hushconcerts-presents-griz-with-guests-the-floozies-muzz
 y
DTSTART;TZID=America/Los_Angeles:20150502T210000
DTEND;TZID=America/Los_Angeles:20150502T230000
CATEGORIES:"san francisco", oakland, berkley, "bay area"
LOCATION:Mezzanine, San Francisco, CA
WEBSITE:https://www.ticketfly.com/purchase/event/767767?utm_medium=bks
 ?utm_source=Partner&utm_medium=APE
URL:https://www.ticketfly.com/purchase/event/767767?utm_medium=bks?utm
 _source=Partner&utm_medium=APE
CONTACT:
ORGANIZER;CN="Editor's Pick":http://trueskool.com/profile/RentheVinylA
 rchaeologist
ATTACH;FMTTYPE="image/jpeg":http://storage.ning.com/topology/rest/1.0/
 file/get/2247973456?profile=original
ATTENDEE;ROLE=REQ-PARTICIPANT;PARTSTAT=ACCEPTED;RSVP=TRUE;CN="Editor's
  Pick":http://trueskool.com/profile/RentheVinylArchaeologist
END:VEVENT
END:VCALENDAR
