BEGIN:VCALENDAR
PRODID:NingEventWidget-v1
VERSION:2.0
METHOD:PUBLISH
BEGIN:VTIMEZONE
TZID:America/Los_Angeles
X-LIC-LOCATION:America/Los_Angeles
BEGIN:DAYLIGHT
TZOFFSETFROM:-0800
TZOFFSETTO:-0700
TZNAME:PDT
DTSTART:19700308T020000
RRULE:FREQ=YEARLY;BYMONTH=3;BYDAY=2SU
END:DAYLIGHT
BEGIN:STANDARD
TZOFFSETFROM:-0700
TZOFFSETTO:-0800
TZNAME:PST
DTSTART:19701101T020000
RRULE:FREQ=YEARLY;BYMONTH=11;BYDAY=1SU
END:STANDARD
END:VTIMEZONE
BEGIN:VEVENT
UID:1464587:Event:292861
DTSTAMP:20260420T181723Z
SUMMARY:HUMP DAY HAPPY HOUR w/ Ren the Vinyl Archaeologist @ Yoshi's S
 F (Wed 1/22)
DESCRIPTION:\n\nWEDNESDAY, JAN 22\nHUMP DAY HAPPY HOUR\nOld School - S
 oul - Funk - Hip HopGuaranteed to get you over the hump!\n\nFeaturing:
 \nRen the Vinyl Archaeologist (True Skool)\n\n@ Yoshi's, 1330 Fillmore
  St. SF\n6:30pm-10pm | FREE\n\n\nFor more information visit http://tru
 eskool.com/events/hump-day-happy-hour-w-ren-the-vinyl-archaeologist-yo
 shi-s-sf-wed-
DTSTART;TZID=America/Los_Angeles:20140122T183000
DTEND;TZID=America/Los_Angeles:20140122T230000
CATEGORIES:"bay area", "san francisco"
LOCATION:Yoshi's, San Francisco
WEBSITE:http://www.yoshis.com/sanfrancisco/livemusic/artist/show/3975
URL:http://www.yoshis.com/sanfrancisco/livemusic/artist/show/3975
CONTACT:
ORGANIZER:Yoshi's
ATTACH;FMTTYPE="image/jpeg":http://storage.ning.com/topology/rest/1.0/
 file/get/2247955810?profile=original
ATTENDEE;ROLE=REQ-PARTICIPANT;PARTSTAT=ACCEPTED;RSVP=TRUE;CN="Editor's
  Pick":http://trueskool.com/profile/RentheVinylArchaeologist
ATTENDEE;ROLE=REQ-PARTICIPANT;PARTSTAT=TENTATIVE;RSVP=TRUE;CN="Talk of
  the Town Events":http://trueskool.com/profile/TalkoftheTownEvents
END:VEVENT
END:VCALENDAR
