BEGIN:VCALENDAR
PRODID:NingEventWidget-v1
VERSION:2.0
METHOD:PUBLISH
BEGIN:VTIMEZONE
TZID:America/Los_Angeles
X-LIC-LOCATION:America/Los_Angeles
BEGIN:DAYLIGHT
TZOFFSETFROM:-0800
TZOFFSETTO:-0700
TZNAME:PDT
DTSTART:19700308T020000
RRULE:FREQ=YEARLY;BYMONTH=3;BYDAY=2SU
END:DAYLIGHT
BEGIN:STANDARD
TZOFFSETFROM:-0700
TZOFFSETTO:-0800
TZNAME:PST
DTSTART:19701101T020000
RRULE:FREQ=YEARLY;BYMONTH=11;BYDAY=1SU
END:STANDARD
END:VTIMEZONE
BEGIN:VEVENT
UID:1464587:Event:427474
DTSTAMP:20260421T021933Z
SUMMARY:House Party with Just Blaze / DJ Soul / Electric Punanny / Va$
 htie [NYC]
DESCRIPTION:\nHouse Party with Just Blaze / DJ Soul / Electric Punanny
  / Va$htie / O\nDetails: Dirty South Joe\n\n\nWebster HallNew York, 
 NY\n\nThu, 09/18/1410:00 PM\n\nSee Ticketson TicketWeb\n\n\n\n\n\n\nFo
 r more information visit http://trueskool.com/events/house-party-with-
 just-blaze-dj-soul-electric-punanny-va-htie-nyc
DTSTART;TZID=America/Los_Angeles:20140918T220000
DTEND;TZID=America/Los_Angeles:20140918T230000
CATEGORIES:nyc
LOCATION:Webster Hall, New York, NY
WEBSITE:http://www.ticketmaster.com/partner_redirect?v=-QtjAXxdlzhM_gU
 s9NXnCIy9ihIgktw7ag9z65gk4mqLQUDSZdMZRFFVC_PPnPiQv6RFtVi6i1R74YGLBeGOY
 bBFOUTg19Q7nY0evnd3t2Z687w1Jtfez9_XAlIHRWd76ieUF-V4Dj1Yvnb_6ZhAfamhjyV
 fgxgchNT_-AhiynrNeB_s1p33nd6SwwjkpCtBLU6dzeiIGvN_zGwwXw&eventid=29004C
 D918D07967&artistid=1981034&artistname=House%20Party%20with%20Just%20B
 laze%20/%20DJ%20Soul%20/%20Electric%20Punanny%20/%20Va$htie%20/%20O&ci
 d=aff_BUYAT_85386&CAMEFROM=CFC_BUYAT_85386&crosssite=TM_US:1981034:140
URL:http://www.ticketmaster.com/partner_redirect?v=-QtjAXxdlzhM_gUs9NX
 nCIy9ihIgktw7ag9z65gk4mqLQUDSZdMZRFFVC_PPnPiQv6RFtVi6i1R74YGLBeGOYbBFO
 UTg19Q7nY0evnd3t2Z687w1Jtfez9_XAlIHRWd76ieUF-V4Dj1Yvnb_6ZhAfamhjyVfgxg
 chNT_-AhiynrNeB_s1p33nd6SwwjkpCtBLU6dzeiIGvN_zGwwXw&eventid=29004CD918
 D07967&artistid=1981034&artistname=House%20Party%20with%20Just%20Blaze
 %20/%20DJ%20Soul%20/%20Electric%20Punanny%20/%20Va$htie%20/%20O&cid=af
 f_BUYAT_85386&CAMEFROM=CFC_BUYAT_85386&crosssite=TM_US:1981034:140
CONTACT:
ORGANIZER;CN="Editor's Pick":http://trueskool.com/profile/RentheVinylA
 rchaeologist
ATTACH;FMTTYPE="image/jpeg":http://storage.ning.com/topology/rest/1.0/
 file/get/2247973015?profile=original
ATTENDEE;ROLE=REQ-PARTICIPANT;PARTSTAT=ACCEPTED;RSVP=TRUE;CN="Editor's
  Pick":http://trueskool.com/profile/RentheVinylArchaeologist
END:VEVENT
END:VCALENDAR
