BEGIN:VCALENDAR
PRODID:NingEventWidget-v1
VERSION:2.0
METHOD:PUBLISH
BEGIN:VTIMEZONE
TZID:America/Los_Angeles
X-LIC-LOCATION:America/Los_Angeles
BEGIN:DAYLIGHT
TZOFFSETFROM:-0800
TZOFFSETTO:-0700
TZNAME:PDT
DTSTART:19700308T020000
RRULE:FREQ=YEARLY;BYMONTH=3;BYDAY=2SU
END:DAYLIGHT
BEGIN:STANDARD
TZOFFSETFROM:-0700
TZOFFSETTO:-0800
TZNAME:PST
DTSTART:19701101T020000
RRULE:FREQ=YEARLY;BYMONTH=11;BYDAY=1SU
END:STANDARD
END:VTIMEZONE
BEGIN:VEVENT
UID:1464587:Event:654207
DTSTAMP:20260420T133229Z
SUMMARY:HOPSIN (WIN TICKETS)
DESCRIPTION:ENTER TO WIN A PAIR OF TICKETS. WINNER WILL BE DRAWN RANDO
 MLY AND ANNOUNCED 2 DAYS PRIOR TO EVENT. \n\nThursday, October 6, 201
 6\nHOPSIN with Joyner Lucas  SOCIAL HALL SF\n1270 Sutter Street San Fr
 ancisco, CA 94105 414-777-1715 Doors: 7:00PM |Show: 8:00PM >> BUY TICK
 ETS\n\n\nFor more information visit http://trueskool.com/events/hopsin
DTSTART;TZID=America/Los_Angeles:20161006T200000
DTEND;TZID=America/Los_Angeles:20161006T230000
CATEGORIES:"san francisco", oakland, berkley, "san jose", "bay area"
LOCATION:SOCIAL HALL, San Francisco
WEBSITE:http://www.axs.com/events/314013/hopsin-tickets?cid=shsf_hopsi
 n_trueskool
URL:http://www.axs.com/events/314013/hopsin-tickets?cid=shsf_hopsin_tr
 ueskool
CONTACT:
ORGANIZER:Goldenvoice
ATTACH;FMTTYPE="image/jpeg":http://storage.ning.com/topology/rest/1.0/
 file/get/2247992039?profile=original
ATTENDEE;ROLE=REQ-PARTICIPANT;PARTSTAT=ACCEPTED;RSVP=TRUE;CN="Editor's
  Pick":http://trueskool.com/profile/RentheVinylArchaeologist
END:VEVENT
END:VCALENDAR
