BEGIN:VCALENDAR
PRODID:NingEventWidget-v1
VERSION:2.0
METHOD:PUBLISH
BEGIN:VTIMEZONE
TZID:America/Los_Angeles
X-LIC-LOCATION:America/Los_Angeles
BEGIN:DAYLIGHT
TZOFFSETFROM:-0800
TZOFFSETTO:-0700
TZNAME:PDT
DTSTART:19700308T020000
RRULE:FREQ=YEARLY;BYMONTH=3;BYDAY=2SU
END:DAYLIGHT
BEGIN:STANDARD
TZOFFSETFROM:-0700
TZOFFSETTO:-0800
TZNAME:PST
DTSTART:19701101T020000
RRULE:FREQ=YEARLY;BYMONTH=11;BYDAY=1SU
END:STANDARD
END:VTIMEZONE
BEGIN:VEVENT
UID:1464587:Event:110974
DTSTAMP:20260421T021253Z
SUMMARY:Hopsin @ U-31 San Diego Jan 11th 2012
DESCRIPTION:\n\n\nFor more information visit http://trueskool.com/even
 ts/hopsin-u-31-san-diego-jan-11th-2012
DTSTART;TZID=America/Los_Angeles:20120111T200000
DTEND;TZID=America/Los_Angeles:20120112T000000
CATEGORIES:san, diego, ca
LOCATION:U-31, San Diego, CA
WEBSITE:http://www.unlimitedcali.com
URL:http://www.unlimitedcali.com
CONTACT:
ORGANIZER;CN="John Brilliant Brown":http://trueskool.com/profile/JohnB
 rilliantBrown
ATTACH;FMTTYPE="image/jpeg":http://storage.ning.com/topology/rest/1.0/
 file/get/2247904398?profile=original
ATTENDEE;ROLE=REQ-PARTICIPANT;PARTSTAT=ACCEPTED;RSVP=TRUE;CN="John Bri
 lliant Brown":http://trueskool.com/profile/JohnBrilliantBrown
END:VEVENT
END:VCALENDAR
