BEGIN:VCALENDAR
PRODID:NingEventWidget-v1
VERSION:2.0
METHOD:PUBLISH
BEGIN:VTIMEZONE
TZID:America/Los_Angeles
X-LIC-LOCATION:America/Los_Angeles
BEGIN:DAYLIGHT
TZOFFSETFROM:-0800
TZOFFSETTO:-0700
TZNAME:PDT
DTSTART:19700308T020000
RRULE:FREQ=YEARLY;BYMONTH=3;BYDAY=2SU
END:DAYLIGHT
BEGIN:STANDARD
TZOFFSETFROM:-0700
TZOFFSETTO:-0800
TZNAME:PST
DTSTART:19701101T020000
RRULE:FREQ=YEARLY;BYMONTH=11;BYDAY=1SU
END:STANDARD
END:VTIMEZONE
BEGIN:VEVENT
UID:1464587:Event:477433
DTSTAMP:20260420T183210Z
SUMMARY:Holiday Throwback 90's R&B Party
DESCRIPTION:Join Gozas415.com, Belvedere (RED) & Supperclub SF on Sat
 urday, December 6th for our sexy, sultry Holiday Throwback 90's R&B Pa
 rty hosted by the lovely Sheila LiguidUse Promo code \"SHEILA\" for a 
 discount on tickets and bottle service!Bottle service on luxurious all
  white supperclub beds is highly recommendedBeds include: Plush Pillo
 wsVIP Admission for 5+Choice of 3 different liquor packagesBottle serv
 ice is limited. Event Details:Doors open at 10:30pmDress code (dress 
 to impress)!Men in collared shirts, no exceptions No hats, baggy atti
 re, plain t shirts, sports attireLadies in cocktail dresses10:30pm-11p
 m Belvdere (RED) cocktail tasting 90's R&B ALL NIGHT BY DJ CRIDDYhttp
 s://soundcloud.com/dj-criddyAdmission Info:21+ eventall night entry ti
 ckets & bottle service available at gozas415.com\n\nFor more informat
 ion visit http://trueskool.com/events/holiday-throwback-90-s-r-b-party
DTSTART;TZID=America/Los_Angeles:20141206T223000
DTEND;TZID=America/Los_Angeles:20141207T020000
CATEGORIES:san, francisco, sf, supperclubsf, "90's", "r&b", sheila
LOCATION:SupperClubSF, San Francisco
WEBSITE:http://gozas415.com/90snight/
URL:http://gozas415.com/90snight/
CONTACT:
ORGANIZER;CN="Sheila Liguid":http://trueskool.com/profile/SheilaLiguid
ATTACH;FMTTYPE="image/jpeg":http://storage.ning.com/topology/rest/1.0/
 file/get/2247970643?profile=original
ATTENDEE;ROLE=REQ-PARTICIPANT;PARTSTAT=ACCEPTED;RSVP=TRUE;CN="Sheila L
 iguid":http://trueskool.com/profile/SheilaLiguid
END:VEVENT
END:VCALENDAR
