BEGIN:VCALENDAR
PRODID:NingEventWidget-v1
VERSION:2.0
METHOD:PUBLISH
BEGIN:VTIMEZONE
TZID:America/Los_Angeles
X-LIC-LOCATION:America/Los_Angeles
BEGIN:DAYLIGHT
TZOFFSETFROM:-0800
TZOFFSETTO:-0700
TZNAME:PDT
DTSTART:19700308T020000
RRULE:FREQ=YEARLY;BYMONTH=3;BYDAY=2SU
END:DAYLIGHT
BEGIN:STANDARD
TZOFFSETFROM:-0700
TZOFFSETTO:-0800
TZNAME:PST
DTSTART:19701101T020000
RRULE:FREQ=YEARLY;BYMONTH=11;BYDAY=1SU
END:STANDARD
END:VTIMEZONE
BEGIN:VEVENT
UID:1464587:Event:662307
DTSTAMP:20260421T105621Z
SUMMARY:Hip Hop Needle Drop
DESCRIPTION:/ / Hip Hop Needle Drop | Rock Steady | Oakland | Nightlif
 e | New Hip Hop | Otha Shit | Soul Jazz | Good Music | Afrobeat | Liv
 e DJ's | Dion Decibels | Thinkbeat | DJ Toure | Hiero | DJ SPREAD | Ju
 st Due | New Parish | Champion Sound | Bicycle Cafe \ \\n<a href=\"htt
 ps://www.eventbrite.com/e/hip-hop-needle-drop-tickets-34633850780?ref=
 elink\" target=\"_blank\" style=\"color:#72787A\">Hip Hop Needle Drop<
 /a>\n\nFor more information visit http://trueskool.com/events/hip-hop-
 needle-drop-1
DTSTART;TZID=America/Los_Angeles:20170527T210000
DTEND;TZID=America/Los_Angeles:20170528T020000
CATEGORIES:"the rock steady", oakland, "new hip hop", nightlife
LOCATION:The Rock Steady
WEBSITE:https://www.eventbrite.com/e/hip-hop-needle-drop-tickets-34633
 850780
URL:https://www.eventbrite.com/e/hip-hop-needle-drop-tickets-346338507
 80
CONTACT:
ORGANIZER;CN="Pep Love":http://trueskool.com/profile/PepLove
ATTACH;FMTTYPE="image/jpeg":http://storage.ning.com/topology/rest/1.0/
 file/get/2247997037?profile=original
ATTENDEE;ROLE=REQ-PARTICIPANT;PARTSTAT=ACCEPTED;RSVP=TRUE;CN="Pep Love
 ":http://trueskool.com/profile/PepLove
END:VEVENT
END:VCALENDAR
