BEGIN:VCALENDAR
PRODID:NingEventWidget-v1
VERSION:2.0
METHOD:PUBLISH
BEGIN:VTIMEZONE
TZID:America/Los_Angeles
X-LIC-LOCATION:America/Los_Angeles
BEGIN:DAYLIGHT
TZOFFSETFROM:-0800
TZOFFSETTO:-0700
TZNAME:PDT
DTSTART:19700308T020000
RRULE:FREQ=YEARLY;BYMONTH=3;BYDAY=2SU
END:DAYLIGHT
BEGIN:STANDARD
TZOFFSETFROM:-0700
TZOFFSETTO:-0800
TZNAME:PST
DTSTART:19701101T020000
RRULE:FREQ=YEARLY;BYMONTH=11;BYDAY=1SU
END:STANDARD
END:VTIMEZONE
BEGIN:VEVENT
UID:1464587:Event:834925
DTSTAMP:20260424T032627Z
SUMMARY:Hip-Hop Legend Large Professor Live DJ Set
DESCRIPTION:Legendary New York hip-hop icon, Large Professor—aka 'Ex
 tra P.' at Club Cali Renowned as a producer, MC, and DJ, Large Profess
 or has left an indelible mark on the genre with his work alongside Mai
 n Source, Nas, A Tribe Called Quest, Eric B. & Rakim, Kool G. Rap, Com
 mon and more. In a rare Bay Area appearance, he’s bringing an exclus
 ive DJ et to Berkeley that you won’t want to miss! Supporting the ni
 ght is local favorite Otayo Dubb of Beatrock Music, delivering a live 
 beat set as a producer and MC. Come drink, eat and party with a Hip-Ho
 p legend. Presented by Beatrock Music and Tahaj the 1st.\n\nFor more i
 nformation visit http://trueskool.com/events/hip-hop-legend-large-prof
 essor-live-dj-set
DTSTART;TZID=America/Los_Angeles:20250308T210000
DTEND;TZID=America/Los_Angeles:20250309T010000
CATEGORIES:berkeley, oakland, san, francisco, bay, area
LOCATION:Cali's, Berkeley
WEBSITE:https://www.eventbrite.com/e/large-professor-at-club-cali-tick
 ets-1264755580989?utm-campaign=social&amp;utm-content=attendeeshare&am
 p;utm-medium=discovery&amp;utm-term=listing&amp;utm-source=cp&amp;aff=
 ebdsshcopyurl
URL:https://www.eventbrite.com/e/large-professor-at-club-cali-tickets-
 1264755580989?utm-campaign=social&amp;utm-content=attendeeshare&amp;ut
 m-medium=discovery&amp;utm-term=listing&amp;utm-source=cp&amp;aff=ebds
 shcopyurl
CONTACT:
ORGANIZER;CN="Cali's Nightclub":http://trueskool.com/profile/CalisNigh
 tclub
ATTACH;FMTTYPE="image/jpeg":https://storage.ning.com/topology/rest/1.0
 /file/get/13479695100?profile=original
ATTENDEE;ROLE=REQ-PARTICIPANT;PARTSTAT=ACCEPTED;RSVP=TRUE;CN="Cali's N
 ightclub":http://trueskool.com/profile/CalisNightclub
END:VEVENT
END:VCALENDAR
