BEGIN:VCALENDAR
PRODID:NingEventWidget-v1
VERSION:2.0
METHOD:PUBLISH
BEGIN:VTIMEZONE
TZID:America/Los_Angeles
X-LIC-LOCATION:America/Los_Angeles
BEGIN:DAYLIGHT
TZOFFSETFROM:-0800
TZOFFSETTO:-0700
TZNAME:PDT
DTSTART:19700308T020000
RRULE:FREQ=YEARLY;BYMONTH=3;BYDAY=2SU
END:DAYLIGHT
BEGIN:STANDARD
TZOFFSETFROM:-0700
TZOFFSETTO:-0800
TZNAME:PST
DTSTART:19701101T020000
RRULE:FREQ=YEARLY;BYMONTH=11;BYDAY=1SU
END:STANDARD
END:VTIMEZONE
BEGIN:VEVENT
UID:1464587:Event:653998
DTSTAMP:20260420T122259Z
SUMMARY:Hip Hop is Green Presents DEAD PREZ! @ The UptownNightclub
DESCRIPTION:Fri, September 23, 2016Hip Hop is Green Presents DEAD PREZ
 !\nLOCATIONThe UptownNightclub1928 Telegraph AvenueOakland, CA8:00 PM 
 – 11:00 PM>> BUY TICKETS\n\n\nFor more information visit http://true
 skool.com/events/hip-hop-is-green-presents-dead-prez-the-uptownnightcl
 ub
DTSTART;TZID=America/Los_Angeles:20160923T200000
DTEND;TZID=America/Los_Angeles:20160923T230000
CATEGORIES:"bay area", oakland
LOCATION:The Uptown Nightclub, Oakland, CA
WEBSITE:https://www.eventbrite.com/e/hip-hop-is-green-presents-dead-pr
 ez-the-uptownnightclub-tickets-27107437074?aff=eac2
URL:https://www.eventbrite.com/e/hip-hop-is-green-presents-dead-prez-t
 he-uptownnightclub-tickets-27107437074?aff=eac2
CONTACT:
ORGANIZER:Hip Hop is Green
ATTACH;FMTTYPE="image/jpeg":http://storage.ning.com/topology/rest/1.0/
 file/get/2247989037?profile=original
ATTENDEE;ROLE=REQ-PARTICIPANT;PARTSTAT=ACCEPTED;RSVP=TRUE;CN="Editor's
  Pick":http://trueskool.com/profile/RentheVinylArchaeologist
END:VEVENT
END:VCALENDAR
