BEGIN:VCALENDAR
PRODID:NingEventWidget-v1
VERSION:2.0
METHOD:PUBLISH
BEGIN:VTIMEZONE
TZID:America/Los_Angeles
X-LIC-LOCATION:America/Los_Angeles
BEGIN:DAYLIGHT
TZOFFSETFROM:-0800
TZOFFSETTO:-0700
TZNAME:PDT
DTSTART:19700308T020000
RRULE:FREQ=YEARLY;BYMONTH=3;BYDAY=2SU
END:DAYLIGHT
BEGIN:STANDARD
TZOFFSETFROM:-0700
TZOFFSETTO:-0800
TZNAME:PST
DTSTART:19701101T020000
RRULE:FREQ=YEARLY;BYMONTH=11;BYDAY=1SU
END:STANDARD
END:VTIMEZONE
BEGIN:VEVENT
UID:1464587:Event:645502
DTSTAMP:20260421T011140Z
SUMMARY:Hip Hop For Change Beat Battle
DESCRIPTION:Hip Hop for Change + Herbie One Present: Hip Hop For Ch
 ange Beat Battle! Hosted by Malik Diamond, DJ'd by DJ Lex (Souls of M
 ischief), and judged by Tahaj The First, UnLearn The World and Babii C
 ris. No laptops, controllers, or hardware!! Bring beats on a flash dri
 ve for the DJ to play. Email noahfrankmusic@gmail.com to compete. \n
 \nFor more information visit http://trueskool.com/events/hip-hop-for-c
 hange-beat-battle
DTSTART;TZID=America/Los_Angeles:20160422T180000
DTEND;TZID=America/Los_Angeles:20160422T220000
CATEGORIES:"san francisco", "mission district"
LOCATION:Mission Cultural Center for Latino Arts, San Francisco, Calif
 ornia
WEBSITE:https://www.facebook.com/events/200431750307593/
URL:https://www.facebook.com/events/200431750307593/
CONTACT:617-412-0133
ORGANIZER;CN="Noah Frank":http://trueskool.com/profile/NoahFrank
ATTACH;FMTTYPE="image/jpeg":http://storage.ning.com/topology/rest/1.0/
 file/get/2247987079?profile=original
ATTENDEE;ROLE=REQ-PARTICIPANT;PARTSTAT=ACCEPTED;RSVP=TRUE;CN="Noah Fra
 nk":http://trueskool.com/profile/NoahFrank
END:VEVENT
END:VCALENDAR
