BEGIN:VCALENDAR
PRODID:NingEventWidget-v1
VERSION:2.0
METHOD:PUBLISH
BEGIN:VTIMEZONE
TZID:America/Los_Angeles
X-LIC-LOCATION:America/Los_Angeles
BEGIN:DAYLIGHT
TZOFFSETFROM:-0800
TZOFFSETTO:-0700
TZNAME:PDT
DTSTART:19700308T020000
RRULE:FREQ=YEARLY;BYMONTH=3;BYDAY=2SU
END:DAYLIGHT
BEGIN:STANDARD
TZOFFSETFROM:-0700
TZOFFSETTO:-0800
TZNAME:PST
DTSTART:19701101T020000
RRULE:FREQ=YEARLY;BYMONTH=11;BYDAY=1SU
END:STANDARD
END:VTIMEZONE
BEGIN:VEVENT
UID:1464587:Event:645721
DTSTAMP:20260420T214836Z
SUMMARY:Hip Hop For Change 3rd Year Anniversary feat. Opio (Hieroglyph
 ics), Kev Choice, Khafre Jay, Ren the Vinyl Archaeologist @ Uptown Nig
 htclub, Oakland (4/2)
DESCRIPTION:\nSAT, APRIL 2 HIP HOP FOR CHANGE 3-Year Anniversary Show\
 n\nFeaturing: Opio (Hieroglyphics) 2nd Floor Samurais BPOS Ren the Vin
 yl Archaeologist\n\n@ Uptown Nightclub,Â 1928 Telegraph Ave., Oakland,
  CAÂ Â Oakland 21+ / $10 / 9pm-2am >> BUY TICKETS\nRSVP on Facebook\nÂ
  \n********************* DETAILS Celebrating HipHopForChange's 3rd Yea
 r Anniversary Show!!! Join us April 2nd at the Starline Social Club\nF
 t. OPIO of Hieroglyphics, 2nd Floor Samurais, BPOS, Ren the Vinyl Arch
 aeologist and a VERY special guest TBA 3 years of HipHopForChange!!! 3
  years of educating thousands of youth about social justice issues, Hi
 p Hop culture, history, and the power of self-expression!!! 3 years of
  volunteering thousands of hours with organizations that are uplifting
  historically marginalized communities, starting gardens and donating 
 thousands of hours!!! And 3 years of throwing Hip Hop shows that provi
 de platforms for dozens of local artists with empowering social justic
 e oriented narratives!!!\nThis show is not only to support our communi
 ty, but it is to thank you folks as well for making our dreams a reali
 ty. COme join us to see what we've been up to, and to dance your asses
  off!\n\nFor more information visit http://trueskool.com/events/hip-ho
 p-for-change-3rd-year-anniversary-feat-opio-hieroglyphics-k
DTSTART;TZID=America/Los_Angeles:20160402T210000
DTEND;TZID=America/Los_Angeles:20160403T020000
CATEGORIES:"bay area", oakland
LOCATION:Uptown Nightclub, Oakland
WEBSITE:https://www.eventbrite.com/e/hiphopforchange-3rd-year-annivers
 ary-show-tickets-22671451923
URL:https://www.eventbrite.com/e/hiphopforchange-3rd-year-anniversary-
 show-tickets-22671451923
CONTACT:
ORGANIZER:HipHopForChange.org
ATTACH;FMTTYPE="image/jpeg":http://storage.ning.com/topology/rest/1.0/
 file/get/2247985584?profile=original
ATTENDEE;ROLE=REQ-PARTICIPANT;PARTSTAT=ACCEPTED;RSVP=TRUE;CN="Editor's
  Pick":http://trueskool.com/profile/RentheVinylArchaeologist
ATTENDEE;ROLE=REQ-PARTICIPANT;PARTSTAT=TENTATIVE;RSVP=TRUE;CN="Michell
 e Elusive":http://trueskool.com/profile/MichelleElusive
END:VEVENT
END:VCALENDAR
