BEGIN:VCALENDAR
PRODID:NingEventWidget-v1
VERSION:2.0
METHOD:PUBLISH
BEGIN:VTIMEZONE
TZID:America/Los_Angeles
X-LIC-LOCATION:America/Los_Angeles
BEGIN:DAYLIGHT
TZOFFSETFROM:-0800
TZOFFSETTO:-0700
TZNAME:PDT
DTSTART:19700308T020000
RRULE:FREQ=YEARLY;BYMONTH=3;BYDAY=2SU
END:DAYLIGHT
BEGIN:STANDARD
TZOFFSETFROM:-0700
TZOFFSETTO:-0800
TZNAME:PST
DTSTART:19701101T020000
RRULE:FREQ=YEARLY;BYMONTH=11;BYDAY=1SU
END:STANDARD
END:VTIMEZONE
BEGIN:VEVENT
UID:1464587:Event:650221
DTSTAMP:20260420T202826Z
SUMMARY:HIEROGLYPHICS
DESCRIPTION:Oakland's own underground hip-hop collective, Hieroglyphi
 cs, takes the stage with their signature battle rhyming and freestylin
 g over funky and jazzy beats\nADMISSION FREE SUNDAY, July 3 2PM 19th A
 venue and Sloat, San Francisco\n\n\nFor more information visit http://
 trueskool.com/events/hieroglyphics
DTSTART;TZID=America/Los_Angeles:20160703T140000
DTEND;TZID=America/Los_Angeles:20160703T170000
CATEGORIES:"san francisco", oakland, berkley, "san jose", "bay area"
LOCATION:Stern Grove, San Francisco
WEBSITE:http://www.sterngrove.org/concerts/#july-3
URL:http://www.sterngrove.org/concerts/#july-3
CONTACT:
ORGANIZER;CN="Editor's Pick":http://trueskool.com/profile/RentheVinylA
 rchaeologist
ATTACH;FMTTYPE="image/jpeg":http://storage.ning.com/topology/rest/1.0/
 file/get/2247989355?profile=original
ATTENDEE;ROLE=REQ-PARTICIPANT;PARTSTAT=ACCEPTED;RSVP=TRUE;CN="Editor's
  Pick":http://trueskool.com/profile/RentheVinylArchaeologist
END:VEVENT
END:VCALENDAR
