BEGIN:VCALENDAR
PRODID:NingEventWidget-v1
VERSION:2.0
METHOD:PUBLISH
BEGIN:VTIMEZONE
TZID:America/Los_Angeles
X-LIC-LOCATION:America/Los_Angeles
BEGIN:DAYLIGHT
TZOFFSETFROM:-0800
TZOFFSETTO:-0700
TZNAME:PDT
DTSTART:19700308T020000
RRULE:FREQ=YEARLY;BYMONTH=3;BYDAY=2SU
END:DAYLIGHT
BEGIN:STANDARD
TZOFFSETFROM:-0700
TZOFFSETTO:-0800
TZNAME:PST
DTSTART:19701101T020000
RRULE:FREQ=YEARLY;BYMONTH=11;BYDAY=1SU
END:STANDARD
END:VTIMEZONE
BEGIN:VEVENT
UID:1464587:Event:650865
DTSTAMP:20260421T075243Z
SUMMARY:Hieroglyphics (WIN TICKETS)
DESCRIPTION:ENTER TO WIN A PAIR OF TICKETS. WINNER WILL BE DRAWN RANDO
 MLY AND ANNOUNCED 2 DAYS PRIOR TO EVENT.   \n\nSATURDAY JUNE 25\nHi
 eroglyphics\nFounded in Oakland, California in 1997, Hieroglyphics Imp
 erium set the standard for underground hip hop coming out of the west 
 coast. Based on previous fame from early Jive Records and Elektra rele
 ases Hieroglyphics Imperium capitalized on major label promotion for t
 heir independent artist. Still around with new releases in 2016 Hierog
 lyphics has become a staple in Hip Hop.\n\n\n@ The UC Theatre, Berkel
 ey\n18+. Doors 8pm. Show 9pm.\n>> BUY TICKETS\n\n\n\n\n\n\nFor more in
 formation visit http://trueskool.com/events/hieroglyphics-1
DTSTART;TZID=America/Los_Angeles:20160625T210000
DTEND;TZID=America/Los_Angeles:20160626T000000
CATEGORIES:berkeley, hip-hop, "bay area", oakland
LOCATION:The UC Theatre, Berkeley
WEBSITE:http://www.theuctheatre.org/event/1171551-hieroglyphics-berkel
 ey/
URL:http://www.theuctheatre.org/event/1171551-hieroglyphics-berkeley/
CONTACT:510-356-4000
ORGANIZER;CN="The UC Theatre":http://trueskool.com/profile/TheUCTheatr
 e
ATTACH;FMTTYPE="image/jpeg":http://storage.ning.com/topology/rest/1.0/
 file/get/2247989549?profile=original
ATTENDEE;ROLE=REQ-PARTICIPANT;PARTSTAT=ACCEPTED;RSVP=TRUE;CN="Shayla E
 lliott":http://trueskool.com/profile/ShaylaElliott
ATTENDEE;ROLE=REQ-PARTICIPANT;PARTSTAT=ACCEPTED;RSVP=TRUE;CN="The UC T
 heatre":http://trueskool.com/profile/TheUCTheatre
END:VEVENT
END:VCALENDAR
