BEGIN:VCALENDAR
PRODID:NingEventWidget-v1
VERSION:2.0
METHOD:PUBLISH
BEGIN:VTIMEZONE
TZID:America/Los_Angeles
X-LIC-LOCATION:America/Los_Angeles
BEGIN:DAYLIGHT
TZOFFSETFROM:-0800
TZOFFSETTO:-0700
TZNAME:PDT
DTSTART:19700308T020000
RRULE:FREQ=YEARLY;BYMONTH=3;BYDAY=2SU
END:DAYLIGHT
BEGIN:STANDARD
TZOFFSETFROM:-0700
TZOFFSETTO:-0800
TZNAME:PST
DTSTART:19701101T020000
RRULE:FREQ=YEARLY;BYMONTH=11;BYDAY=1SU
END:STANDARD
END:VTIMEZONE
BEGIN:VEVENT
UID:1464587:Event:690212
DTSTAMP:20260420T152707Z
SUMMARY:Hiero Family Day in the Park
DESCRIPTION:\r\nSATURDAY, AUG 31 Hiero Foundation presents Hiero Famil
 y Day in the Park Bring your blanket and chairs and come enjoy a famil
 y day in the park with activities and entertainment for the whole fami
 ly at DeFremery park, the cultural soul of Oakland.\r\n\r\nJoin us for
  the following all-ages fun: Live music curated by Hip Hop for Change 
 featuring DJ Apollo (Triple Threat DJs), Gordo Cabeza (Motown on Monda
 ys) and Ren the Vinyl Archaeologist (True Skool)\r\nTown Park \"Town C
 up\" Skate Boarding Tournament\r\n3 on 3 Basketball tournament with Ce
 lebrity Coaches sponsored by Oaklandish\r\nStorytelling for kids with 
 Akira's Book Club\r\nPlant your own Seedling (kids 14 and under) with 
 City Slicker Farms brought to you by Lyft\r\nCommunity vendors and Foo
 d trucks\r\nBeer Garden featuring Old Kan Beer and Co.beverages@ DeFre
 mery Park aka Little Bobby Hutton Park 1651 Adeline St., Oakland. FREE
 . All Ages. Partners: CLIF Bar, Lyft, Oaklandish, KickstartCS, Old Kan
  Beer and Co.\r\n\n\nFor more information visit http://trueskool.com/e
 vents/hiero-family-day-in-the-park
DTSTART;TZID=America/Los_Angeles:20190831T113000
DTEND;TZID=America/Los_Angeles:20190831T180000
CATEGORIES:"bay area", oakland
LOCATION:Defremery Park, Oakland
WEBSITE:https://www.hieroday.com
URL:https://www.hieroday.com
CONTACT:
ORGANIZER:Hieroglyphics
ATTACH;FMTTYPE="image/jpeg":https://storage.ning.com/topology/rest/1.0
 /file/get/3440106531?profile=original
ATTENDEE;ROLE=REQ-PARTICIPANT;PARTSTAT=ACCEPTED;RSVP=TRUE;CN="Editor's
  Pick":http://trueskool.com/profile/RentheVinylArchaeologist
END:VEVENT
END:VCALENDAR
