BEGIN:VCALENDAR
PRODID:NingEventWidget-v1
VERSION:2.0
METHOD:PUBLISH
BEGIN:VTIMEZONE
TZID:America/Los_Angeles
X-LIC-LOCATION:America/Los_Angeles
BEGIN:DAYLIGHT
TZOFFSETFROM:-0800
TZOFFSETTO:-0700
TZNAME:PDT
DTSTART:19700308T020000
RRULE:FREQ=YEARLY;BYMONTH=3;BYDAY=2SU
END:DAYLIGHT
BEGIN:STANDARD
TZOFFSETFROM:-0700
TZOFFSETTO:-0800
TZNAME:PST
DTSTART:19701101T020000
RRULE:FREQ=YEARLY;BYMONTH=11;BYDAY=1SU
END:STANDARD
END:VTIMEZONE
BEGIN:VEVENT
UID:1464587:Event:653494
DTSTAMP:20260420T141100Z
SUMMARY:HIERO DAY 2016 feat. Dilated Peoples, Invisibl Skratch Piklz, 
 Too $hort, Juvenile, Just Blaze, Murs, Lyrics Born
DESCRIPTION:\nMONDAY, SEPT 5\nHIERO DAY\n\nFEATURING:\nDilated Peoples
 , Invisibl Skratch Piklz, Too $hort, Juvenile, Just Blaze, Murs, Lyri
 cs Born, Blu & Exile,  World Famous Beat Junkies, Paris, Rocky Rivera
  and more!\nHIERO DAY is a one day event, combining an outdoor festiva
 l, concert, food, and block party where thousands come to celebrate al
 l that is good about Oakland September 5, 2016.   This community even
 t brings together all ages and backgrounds. The event hosts a children
 s area, multiple stages to host local and internationally renowned art
 ists and DJs providing continuous entertainment from Hip-Hop, Jazz, El
 ectronic, Alternative and R&B.\n\nLOCATION: Intersection of 3rd Street
  & Chestnut Street, Oakland, CA, 94607\nChildren 7 and under are free.
 \n\n>> BUY TICKETS\n\nFor more information visit http://trueskool.com/
 events/hiero-day-2016-feat
DTSTART;TZID=America/Los_Angeles:20160905T110000
DTEND;TZID=America/Los_Angeles:20160905T180000
CATEGORIES:"bay area", oakland
LOCATION:Hiero Day
WEBSITE:http://www.hieroday.com/#!tickets/cq53
URL:http://www.hieroday.com/#!tickets/cq53
CONTACT:
ORGANIZER;CN="Editor's Pick":http://trueskool.com/profile/RentheVinylA
 rchaeologist
ATTACH;FMTTYPE="image/jpeg":http://storage.ning.com/topology/rest/1.0/
 file/get/2247990547?profile=original
ATTENDEE;ROLE=REQ-PARTICIPANT;PARTSTAT=ACCEPTED;RSVP=TRUE;CN="Editor's
  Pick":http://trueskool.com/profile/RentheVinylArchaeologist
END:VEVENT
END:VCALENDAR
