BEGIN:VCALENDAR
PRODID:NingEventWidget-v1
VERSION:2.0
METHOD:PUBLISH
BEGIN:VTIMEZONE
TZID:America/Los_Angeles
X-LIC-LOCATION:America/Los_Angeles
BEGIN:DAYLIGHT
TZOFFSETFROM:-0800
TZOFFSETTO:-0700
TZNAME:PDT
DTSTART:19700308T020000
RRULE:FREQ=YEARLY;BYMONTH=3;BYDAY=2SU
END:DAYLIGHT
BEGIN:STANDARD
TZOFFSETFROM:-0700
TZOFFSETTO:-0800
TZNAME:PST
DTSTART:19701101T020000
RRULE:FREQ=YEARLY;BYMONTH=11;BYDAY=1SU
END:STANDARD
END:VTIMEZONE
BEGIN:VEVENT
UID:1464587:Event:689769
DTSTAMP:20260420T214559Z
SUMMARY:HERBIE HANCOCK / KAMASI WASHINGTON / ROBERT GLASPER
DESCRIPTION:ENTER TO WIN A PAIR OF TICKETS. WINNER WILL BE DRAWN RANDO
 MLY AND ANNOUNCED 2 DAYS PRIOR TO EVENT.\r\n\r\nFriday, August 23, 201
 9\r\nHERBIE HANCOCK   KAMASI WASHINGTON  Robert Glasper\r\nGreek Theat
 re 2001 Gayley Rd, Berkeley, CA 94720 Doors: 5:30pm | Show: 7:00pm\r\n
 >> BUY TICKETS\r\n\r\n\r\nTickets are also available with a $5.00 serv
 ice charge fee at the following location:\r\nFox Theater Box Office â€
 “ 1807 Telegraph Ave, Oakland CA located on the 19th Street side of th
 e theater HOURS: Open during shows & Fridays, noon â€“ 7:00pm\r\nTicke
 ts are also available service charge free at the following location:\r
 \nZellerbach Hall â€“ 101 Zellerbach Hall #4800, Berkeley, CA located 
 on the UC Berkeley campus HOURS: Tuesday â€“ Friday, noon â€“ 5:30pm &
  Saturday â€“ Sunday, 1pm â€“ 5pm\r\nAll doors & show times subject to
  change.\n\nFor more information visit http://trueskool.com/events/her
 bie-hancock-kamasi-washington
DTSTART;TZID=America/Los_Angeles:20190823T190000
DTEND;TZID=America/Los_Angeles:20190823T233000
CATEGORIES:"bay area", oakland, "san francisco", "san jose", berkeley
LOCATION:Greek Theatre, Berkeley
WEBSITE:https://www.ticketmaster.com/herbie-hancock-and-kamasi-washing
 ton-berkeley-california-08-23-2019/event/1C005688CC19669D?camefrom=CFC
 _ANOTHERPLANET_web&amp;amp;amp;amp;brand=anotherplanet
URL:https://www.ticketmaster.com/herbie-hancock-and-kamasi-washington-
 berkeley-california-08-23-2019/event/1C005688CC19669D?camefrom=CFC_ANO
 THERPLANET_web&amp;amp;amp;amp;brand=anotherplanet
CONTACT:
ORGANIZER:Another Planet Entertainment
ATTACH;FMTTYPE="image/jpeg":https://storage.ning.com/topology/rest/1.0
 /file/get/3403469790?profile=original
ATTENDEE;ROLE=REQ-PARTICIPANT;PARTSTAT=ACCEPTED;RSVP=TRUE;CN="Editor's
  Pick":http://trueskool.com/profile/RentheVinylArchaeologist
END:VEVENT
END:VCALENDAR
