BEGIN:VCALENDAR
PRODID:NingEventWidget-v1
VERSION:2.0
METHOD:PUBLISH
BEGIN:VTIMEZONE
TZID:America/Los_Angeles
X-LIC-LOCATION:America/Los_Angeles
BEGIN:DAYLIGHT
TZOFFSETFROM:-0800
TZOFFSETTO:-0700
TZNAME:PDT
DTSTART:19700308T020000
RRULE:FREQ=YEARLY;BYMONTH=3;BYDAY=2SU
END:DAYLIGHT
BEGIN:STANDARD
TZOFFSETFROM:-0700
TZOFFSETTO:-0800
TZNAME:PST
DTSTART:19701101T020000
RRULE:FREQ=YEARLY;BYMONTH=11;BYDAY=1SU
END:STANDARD
END:VTIMEZONE
BEGIN:VEVENT
UID:1464587:Event:652011
DTSTAMP:20260420T122550Z
SUMMARY:Hennypalooza
DESCRIPTION:The TNTH Presents\nHENNYPALOOZA\n21+ · Austin Millz, MekD
 ot, Daghe, Big Von, D Sharp\n\nLike most great nightlife experiences,
 HennyPalooza started out as a small, organic gathering of friends, b
 ut this one just happened to be at the residence of founder Kameron Mc
 Cullough. The idea was simple – bring a bottle of the popular cognac
  Hennessy, and/or food item. After an initial series of texts, emails,
  tweets and instagram posts, HennyPalooza has become the most shared
  party series on social media to date. 3 years, 9 US markets, 2 Intern
 ational markets, 19 Palooza’sand 30k+ tickets later, the “party
  in Kam’s apartment has evolved into one the most socially activate
 d parties ever.\n\nFor more information visit http://trueskool.com/eve
 nts/hennhypalooza
DTSTART;TZID=America/Los_Angeles:20160813T150000
DTEND;TZID=America/Los_Angeles:20160813T200000
CATEGORIES:"san francisco", "bay area"
LOCATION:Mezzanine, San Francisco
WEBSITE:http://hennypaloozaatmezzanine.eventbrite.com/?aff=trueskool
URL:http://hennypaloozaatmezzanine.eventbrite.com/?aff=trueskool
CONTACT:415 625 8880
ORGANIZER:The TNTH
ATTACH;FMTTYPE="image/jpeg":http://storage.ning.com/topology/rest/1.0/
 file/get/2247990007?profile=original
ATTENDEE;ROLE=REQ-PARTICIPANT;PARTSTAT=ACCEPTED;RSVP=TRUE;CN=Mezzanine
 SF:http://trueskool.com/profile/MezzanineSF
END:VEVENT
END:VCALENDAR
