BEGIN:VCALENDAR
PRODID:NingEventWidget-v1
VERSION:2.0
METHOD:PUBLISH
BEGIN:VTIMEZONE
TZID:America/Los_Angeles
X-LIC-LOCATION:America/Los_Angeles
BEGIN:DAYLIGHT
TZOFFSETFROM:-0800
TZOFFSETTO:-0700
TZNAME:PDT
DTSTART:19700308T020000
RRULE:FREQ=YEARLY;BYMONTH=3;BYDAY=2SU
END:DAYLIGHT
BEGIN:STANDARD
TZOFFSETFROM:-0700
TZOFFSETTO:-0800
TZNAME:PST
DTSTART:19701101T020000
RRULE:FREQ=YEARLY;BYMONTH=11;BYDAY=1SU
END:STANDARD
END:VTIMEZONE
BEGIN:VEVENT
UID:1464587:Event:377270
DTSTAMP:20260421T185142Z
SUMMARY:Hella Saucey
DESCRIPTION:HELLA SAUCEY ~ The PRIDE EditionPresented by DeeJay Andre 
 & Jibby BondWe've brought together some of the Bay's rawest talent to
  PARTY with you during SF Pride 2014!DJ's:+ DeeJay Andre+ Ash Fistcity
 sf a.k.a. Pony ManePerformances by:+ MicahTron SF + Jocquese Whitfield
  + Aima the Dreamer + Lady Fingaz (La Femme Deadly Venoms)Gogo Da
 ncers:+ Feliciano Ortiz+ ZoeSponsors:+ FIST CITY SFCome find out how 
 we party in SF!!!!!$10 COVER ALL NIGHT LONG!\n\nFor more information v
 isit http://trueskool.com/events/hella-saucey
DTSTART;TZID=America/Los_Angeles:20140628T210000
DTEND;TZID=America/Los_Angeles:20140629T020000
CATEGORIES:san, francisco, ca
LOCATION:Elbo Room, SF, CA
WEBSITE:https://www.facebook.com/search/web/direct_search.php?q=Hella%
 20Saucey%20%40%20Elbo%20Room!%20SF%20PRIDE%20SATURDAY%206%2F28%209PM!&
 source=quickselect&sid=0.05159626970998943
URL:https://www.facebook.com/search/web/direct_search.php?q=Hella%20Sa
 ucey%20%40%20Elbo%20Room!%20SF%20PRIDE%20SATURDAY%206%2F28%209PM!&sour
 ce=quickselect&sid=0.05159626970998943
CONTACT:
ORGANIZER;CN="DeeJay Andre":http://trueskool.com/profile/DeeJayAndre
ATTACH;FMTTYPE="image/jpeg":http://storage.ning.com/topology/rest/1.0/
 file/get/2247963385?profile=original
ATTENDEE;ROLE=REQ-PARTICIPANT;PARTSTAT=ACCEPTED;RSVP=TRUE;CN="DeeJay A
 ndre":http://trueskool.com/profile/DeeJayAndre
END:VEVENT
END:VCALENDAR
