BEGIN:VCALENDAR
PRODID:NingEventWidget-v1
VERSION:2.0
METHOD:PUBLISH
BEGIN:VTIMEZONE
TZID:America/Los_Angeles
X-LIC-LOCATION:America/Los_Angeles
BEGIN:DAYLIGHT
TZOFFSETFROM:-0800
TZOFFSETTO:-0700
TZNAME:PDT
DTSTART:19700308T020000
RRULE:FREQ=YEARLY;BYMONTH=3;BYDAY=2SU
END:DAYLIGHT
BEGIN:STANDARD
TZOFFSETFROM:-0700
TZOFFSETTO:-0800
TZNAME:PST
DTSTART:19701101T020000
RRULE:FREQ=YEARLY;BYMONTH=11;BYDAY=1SU
END:STANDARD
END:VTIMEZONE
BEGIN:VEVENT
UID:1464587:Event:657181
DTSTAMP:20260421T134233Z
SUMMARY:Hella Saucey NYE Dec 31st @ Elbo Room 9pm-2am!
DESCRIPTION:Hella Saucey is back with their Annual Queer New Years Dan
 ce Party! Featuring Bay Area DJs from Peaches Crew, spinning hip hop a
 nd club bangers all night long!\n\nDJS:\nLady Fingaz\nPony P\nAndre\n\
 nGOGO BABES:\nShanice & Andrea\n\nCrowd Photos by Morgan Parrick \n\n
 PLUS.... a special midnight celebration!\n\nElbo Room\n9pm-2am\n$20 co
 ver at the door\n$15 Presale \n\nGet your $15 Presale tickets here>>\
 nhttp://www.brownpapertickets.com/event/2722214\n\nFor more informatio
 n visit http://trueskool.com/events/hella-saucey-nye-dec-31st-elbo-roo
 m-9pm-2am
DTSTART;TZID=America/Los_Angeles:20161231T210000
DTEND;TZID=America/Los_Angeles:20170101T020000
CATEGORIES:san, francisco, bay, area, california
LOCATION:Elbo Room, San Francisco, CA
WEBSITE:http://www.brownpapertickets.com/event/2722214
URL:http://www.brownpapertickets.com/event/2722214
CONTACT:
ORGANIZER;CN="DeeJay Andre":http://trueskool.com/profile/DeeJayAndre
ATTACH;FMTTYPE="image/jpeg":http://storage.ning.com/topology/rest/1.0/
 file/get/2247992908?profile=original
ATTENDEE;ROLE=REQ-PARTICIPANT;PARTSTAT=ACCEPTED;RSVP=TRUE;CN="DeeJay A
 ndre":http://trueskool.com/profile/DeeJayAndre
END:VEVENT
END:VCALENDAR
