BEGIN:VCALENDAR
PRODID:NingEventWidget-v1
VERSION:2.0
METHOD:PUBLISH
BEGIN:VTIMEZONE
TZID:America/Los_Angeles
X-LIC-LOCATION:America/Los_Angeles
BEGIN:DAYLIGHT
TZOFFSETFROM:-0800
TZOFFSETTO:-0700
TZNAME:PDT
DTSTART:19700308T020000
RRULE:FREQ=YEARLY;BYMONTH=3;BYDAY=2SU
END:DAYLIGHT
BEGIN:STANDARD
TZOFFSETFROM:-0700
TZOFFSETTO:-0800
TZNAME:PST
DTSTART:19701101T020000
RRULE:FREQ=YEARLY;BYMONTH=11;BYDAY=1SU
END:STANDARD
END:VTIMEZONE
BEGIN:VEVENT
UID:1464587:Event:654589
DTSTAMP:20260420T104048Z
SUMMARY:Hella Saucey Hip Hop Tuesdays @ Elbo Room (downstairs)
DESCRIPTION:Hella Saucey Tuesdays is your weekly Hip Hop party featuri
 ng Peaches Lady DJ Crew. Never a cover and always drink specials!\n\nD
 Js:\nDeeJay Andre\nLady Fingaz\nDJ Umami\nLady Ryan\nDJ ThatGirl\nDeea
 ndroid\nDJ Pony P\n\nElbo Room\n647 Valencia St, San Francisco, CA\n9p
 m-2am\n21+\nNO COVER \n\n\n\nFor more information visit http://truesk
 ool.com/events/hella-saucey-hip-hop-tuesdays-elbo-room-downstairs
DTSTART;TZID=America/Los_Angeles:20161011T210000
DTEND;TZID=America/Los_Angeles:20161012T020000
CATEGORIES:"bay area", "san francisco", "hip hop", djs, "peaches crew"
LOCATION:Elbo Room, San Francisco, CA
WEBSITE:https://www.facebook.com/hellasaucey/
URL:https://www.facebook.com/hellasaucey/
CONTACT:
ORGANIZER;CN="DeeJay Andre":http://trueskool.com/profile/DeeJayAndre
ATTACH;FMTTYPE="image/jpeg":http://storage.ning.com/topology/rest/1.0/
 file/get/2247992181?profile=original
ATTENDEE;ROLE=REQ-PARTICIPANT;PARTSTAT=ACCEPTED;RSVP=TRUE;CN="DeeJay A
 ndre":http://trueskool.com/profile/DeeJayAndre
END:VEVENT
END:VCALENDAR
