BEGIN:VCALENDAR
PRODID:NingEventWidget-v1
VERSION:2.0
METHOD:PUBLISH
BEGIN:VTIMEZONE
TZID:America/Los_Angeles
X-LIC-LOCATION:America/Los_Angeles
BEGIN:DAYLIGHT
TZOFFSETFROM:-0800
TZOFFSETTO:-0700
TZNAME:PDT
DTSTART:19700308T020000
RRULE:FREQ=YEARLY;BYMONTH=3;BYDAY=2SU
END:DAYLIGHT
BEGIN:STANDARD
TZOFFSETFROM:-0700
TZOFFSETTO:-0800
TZNAME:PST
DTSTART:19701101T020000
RRULE:FREQ=YEARLY;BYMONTH=11;BYDAY=1SU
END:STANDARD
END:VTIMEZONE
BEGIN:VEVENT
UID:1464587:Event:653726
DTSTAMP:20260420T115717Z
SUMMARY:Hardly Strictly Silent Disco
DESCRIPTION:\nSeptember 30-October 2 HUSHconcerts is proud to produceH
 ardly Strictly Silent Disco\n3 days of incredible theme sets by the Ba
 y Area's finest DJsMotion Potion Purple Reign | A History of PsychRock
  in Remix | New Orleans Blend • DJ Centipede of Mophono JB's do7\" S
 tax of Hi Volt acid • Deejay Theory Carribean Kings • King Most Ar
 ound the World • Davey D The Nu Disco • Ren the VinylArchaeologist
  Larry Levan• Matt Haze Hick Hop & Country Crunk • Gordo Cabeza Mu
 scle Shoals • Make it Funky Djs Reggaetronic • Steve Fabus Paradis
 e Garage • DJ 8Ball Bowie in Space • U9lift Blues to Bluegrass •
  Zack Darling Classic Rock in Remix • Malarkey Electro Swing • Tom
  Thump Dancehall’s Golden Age • DJ Alarm Beastie Mania • DJ Phle
 ck Diana Wonder • Chuck Jones Make it Funky • DJ Tobiwan Cover Me 
 • DJ Corinne ItaloDisco\n\nat Hardly Strictly BluegrassGolden Gate P
 ark • San FranciscoFree / All Ages / Just one of the many incredible
  stages...www.hardlystrictlybluegrass.com\n\nHUSHconcerts proudly retu
 rns to Hardly Strictly Bluegrass for a 2-channel, 3-day, all-themed, h
 eadphone-propelled, music experience. The Bay Area's most daring DJs c
 runch craniums with theme sets appealing to even the most discerning m
 usic aficionados. Among the sets concocted by these musical maniacs ar
 e A History of Psychedelic Rock in Remix, Bowie in Space, Hick Hop & C
 ountry Crunk, Dancehall’s Golden Age, Blues to Bluegrass, and JB's d
 o7\" Stax of Hi Volt acid. Our 3-day lineup includes Motion Potion, DJ
 Centipede of Mophono, Davey D, DeejayTheory, King Most, Matt Haze, Ren
  the Vinyl Archaeologist , Steve Fabus, Zack Darling, Malarkey, Gordo 
 Cabeza, DJ8Ball, DJ Alarm, Tom Thump, DJ Phleck, DJ Tobiwan, Make it F
 unky Djs, U9lift, Chuck Jones, and DJ Corinne. This HUSHcast is just a
  small part of the city's biggest free musical gathering. The final sc
 hedule and theme info at facebook.com/hushconcerts and show info at w
 ww.hardlystrictlytbluegrass.com.www.HUSHconcerts.com\n\nFor more infor
 mation visit http://trueskool.com/events/hardly-strictly-silent-disco
DTSTART;TZID=America/Los_Angeles:20160930T133000
DTEND;TZID=America/Los_Angeles:20161002T190000
CATEGORIES:"bay area", "san francisco"
LOCATION:Golden Gate Park, San Francisco
WEBSITE:http://bit.ly/hsb16friday
URL:http://bit.ly/hsb16friday
CONTACT:
ORGANIZER:HUSHconcerts
ATTACH;FMTTYPE="image/jpeg":http://storage.ning.com/topology/rest/1.0/
 file/get/2247991372?profile=original
ATTENDEE;ROLE=REQ-PARTICIPANT;PARTSTAT=ACCEPTED;RSVP=TRUE;CN="Editor's
  Pick":http://trueskool.com/profile/RentheVinylArchaeologist
END:VEVENT
END:VCALENDAR
