BEGIN:VCALENDAR
PRODID:NingEventWidget-v1
VERSION:2.0
METHOD:PUBLISH
BEGIN:VTIMEZONE
TZID:America/Los_Angeles
X-LIC-LOCATION:America/Los_Angeles
BEGIN:DAYLIGHT
TZOFFSETFROM:-0800
TZOFFSETTO:-0700
TZNAME:PDT
DTSTART:19700308T020000
RRULE:FREQ=YEARLY;BYMONTH=3;BYDAY=2SU
END:DAYLIGHT
BEGIN:STANDARD
TZOFFSETFROM:-0700
TZOFFSETTO:-0800
TZNAME:PST
DTSTART:19701101T020000
RRULE:FREQ=YEARLY;BYMONTH=11;BYDAY=1SU
END:STANDARD
END:VTIMEZONE
BEGIN:VEVENT
UID:1464587:Event:289871
DTSTAMP:20260421T011114Z
SUMMARY:Hand to Mouth Comedy
DESCRIPTION:Hand to Mouth is a one-of-a-kind show that asks comedians 
 to write and perform all new material on a specific social, cultural o
 r political issue. One show, one topic. Comedian Trevor Hill assemble
 s the brightest comics in San Francisco and beyond to find the funny i
 n such topics as commercialism, technology, gender and conspiracy theo
 ries. Performers include up-and-comers alongside veteran comics who h
 ave appeared on NBC, MTV, E! and Comedy Central. \"It would appear al
 lowing comedians to stretch their creativity to encompass yet redefine
  a specific theme is as good for them as it was for us.” -San Franci
 sco Guardian.\n\nJanuary’s Topic: Movies!\n\nOn Friday 1/3, Casey Le
 y (SXSW), Vince Mancini (FilmDrunk), Leslie Small (Cobb's), Joey De
 vine (SF Sketchfest), Keith D'souza (SF Punchline) and Andre Parke
 r (Fresh Like Cadaver) will join Trevor in making fun of their favori
 te films from Ben-Hur to Bio-Dome.\n\nHand to Mouth: Movies\nFriday, J
 anuary 3rd @ 10:00PM\nThe Dark Room (2263 Mission St.)\nCover: $5 Adv
 ance, $8 at the Door.\n\nEvery First Friday of the Month!\n\nInfo: www
 .handtomouthcomedy.com\nTickets: www.tdr14-jan-htm.eventbrite.com\n\n
 For more information visit http://trueskool.com/events/hand-to-mouth-c
 omedy-8
DTSTART;TZID=America/Los_Angeles:20140103T220000
DTEND;TZID=America/Los_Angeles:20140103T233000
CATEGORIES:san, francisco
LOCATION:Dark Room Theater
WEBSITE:http://handtomouthcomedy.com
URL:http://handtomouthcomedy.com
CONTACT:415.401.7987
ORGANIZER;CN="Trevor Hill":http://trueskool.com/profile/TrevorHill
ATTACH;FMTTYPE="image/jpeg":http://storage.ning.com/topology/rest/1.0/
 file/get/2247957438?profile=original
ATTENDEE;ROLE=REQ-PARTICIPANT;PARTSTAT=ACCEPTED;RSVP=TRUE;CN="Trevor H
 ill":http://trueskool.com/profile/TrevorHill
END:VEVENT
END:VCALENDAR
