BEGIN:VCALENDAR
PRODID:NingEventWidget-v1
VERSION:2.0
METHOD:PUBLISH
BEGIN:VTIMEZONE
TZID:America/Los_Angeles
X-LIC-LOCATION:America/Los_Angeles
BEGIN:DAYLIGHT
TZOFFSETFROM:-0800
TZOFFSETTO:-0700
TZNAME:PDT
DTSTART:19700308T020000
RRULE:FREQ=YEARLY;BYMONTH=3;BYDAY=2SU
END:DAYLIGHT
BEGIN:STANDARD
TZOFFSETFROM:-0700
TZOFFSETTO:-0800
TZNAME:PST
DTSTART:19701101T020000
RRULE:FREQ=YEARLY;BYMONTH=11;BYDAY=1SU
END:STANDARD
END:VTIMEZONE
BEGIN:VEVENT
UID:1464587:Event:339700
DTSTAMP:20260421T002018Z
SUMMARY:Hand to Mouth Comedy
DESCRIPTION:Trevor Hill presents Hand to Mouth: a monthly, topic-bas
 ed comedy show where each edition explores a specific social, cultural
  or political issue. One show, one topic.\n\nApril’s Topic: Sadness!
 \nOur pain. Your gain.\n\nOn Friday 4/18, comedians Keith Lowell Jense
 n (Showtime), Jules Posner (SF Sketchfest), Shanti Charan (SF Pun
 chline, Cobb's), Gabe Dinger (Bridgetown Comedy Fest), Matt Lieb (M
 ission Position), Josef Anolin (Laughs on Laughs) and Misha Trubs 
 (Sylvan Productions) will join Trevor in discussing all things sad. Co
 me laugh at our pain as these hopeless humorists discuss bummers, bad 
 luck, bring-downs and boner-kills. You bring the laughs. We'll bring 
 the tears. \n\nHand to Mouth: Sadness\nFriday, April 18th @ 8:30PM\nT
 he Cinecave @ Lost Weekend Video (1034 Valencia St.)\nCover: $10\n\nI
 nfo: www.handtomouthcomedy.com\nTix:  www.hand2mouth.eventbrite.com\n
 \nEvery Third Friday of the Month!\n\nFor more information visit http:
 //trueskool.com/events/hand-to-mouth-comedy-10
DTSTART;TZID=America/Los_Angeles:20140418T203000
DTEND;TZID=America/Los_Angeles:20140418T220000
CATEGORIES:san, francisco
LOCATION:Lost Weekend Video
WEBSITE:http://handtomouthcomedy.com
URL:http://handtomouthcomedy.com
CONTACT:415.643.3373
ORGANIZER;CN="Trevor Hill":http://trueskool.com/profile/TrevorHill
ATTACH;FMTTYPE="image/jpeg":http://storage.ning.com/topology/rest/1.0/
 file/get/2247962605?profile=original
ATTENDEE;ROLE=REQ-PARTICIPANT;PARTSTAT=ACCEPTED;RSVP=TRUE;CN="Trevor H
 ill":http://trueskool.com/profile/TrevorHill
END:VEVENT
END:VCALENDAR
