BEGIN:VCALENDAR
PRODID:NingEventWidget-v1
VERSION:2.0
METHOD:PUBLISH
BEGIN:VTIMEZONE
TZID:America/Los_Angeles
X-LIC-LOCATION:America/Los_Angeles
BEGIN:DAYLIGHT
TZOFFSETFROM:-0800
TZOFFSETTO:-0700
TZNAME:PDT
DTSTART:19700308T020000
RRULE:FREQ=YEARLY;BYMONTH=3;BYDAY=2SU
END:DAYLIGHT
BEGIN:STANDARD
TZOFFSETFROM:-0700
TZOFFSETTO:-0800
TZNAME:PST
DTSTART:19701101T020000
RRULE:FREQ=YEARLY;BYMONTH=11;BYDAY=1SU
END:STANDARD
END:VTIMEZONE
BEGIN:VEVENT
UID:1464587:Event:104013
DTSTAMP:20260421T021651Z
SUMMARY:HALLOWEEN(ish) DUB MISSION feat. THE SPIT BROTHERS FULL BAND w
 ith BAKIR & DUBSWORTH, CODY MORRISON , MC JOE MOUSEPAD plus DJ SEP (Du
 b Mission) and J. BOOGIE  (Dubtronic Science/Om)
DESCRIPTION: \nHALLOWEEN(ish) DUB MISSION   feat. THE SPIT BROTHERS 
 in a rare FULL BAND performance (Dubs Alive, Tuba)\nwith BAKIR (trumpe
 t & dub fading) & DUBSWORTH (guitar & electric bass) and featuring COD
 Y MORRISON of Danger Deluxe (live dubbed percussion) and MC/vocalist J
 OE MOUSEPAD\nplus DJ SEP and J. BOOGIE (Dubtronic Science/OM) at Elbo 
 Room - 647 Valencia Street San Francisco, CA 94110 - Club is 21+ - Clu
 b info: 415 552 7788\n9 pm to 2 am  - $6 advance  - $8 door -  Adv.
  tix: www.brownpapertickets.com & www.jambasetickets.com\nwww.dubmissi
 onsf.com\nBakir and Dubsworth came together in 2006 with their common 
 backgrounds in instrumental performance and music production to form t
 he sound system band, THE SPIT BROTHERS. The group incorporates elemen
 ts of dub, bass music, dubstep, afrobeat, jazz, and electronic music i
 nto their repertoire. Their live set is a combination of improvised an
 d sequenced moments created through loop manipulation and re-arrangeme
 nt, and dub fading. Both producers perform on several instruments incl
 uding trumpet, bass, guitar, organ, synthesizer, and melodica.  They 
 have performed instruments alongside Jazzsteppa, KJ Sawka, and Kush Ar
 ora and have supported acts like Caspa and Rusko, Eskmo, Joe Nice, RSD
 , OSC, Matty G, DZ, DJG, and DJunya.  The Spit Brothers have releases
  out on Full Melt Records, Record Label Records, and their own label's
 , Dubs Alive and Tuba.\nhttp://www.soundcloud.com/spitbrothers\nhttp:/
 /www.soundcloud.com/dubsalive\nhttp://www.soundcloud.com/dubsworth\nht
 tp://www.soundcloud.com/bakir\n Music from The Spit Brothers:   http
 ://soundcloud.com/dubsalive/sets/free-downloads-41/\n \nHaving just c
 elebrated its 15th anniversary, DUB MISSION is one of the longest-runn
 ing dub & reggae parties in the U.S., possibly the world. A weekly Sun
 day night party at Elbo Room (647 Valencia Street x 17th Street) in th
 e Mission District of San Francisco, Dub Mission presents cutting-edge
  dub, dubstep, roots reggae, and dancehall, and has featured artists f
 rom all over the world, including Adrian Sherwood & the ON-U Sound Sys
 tem, Mad Professor & the Ariwa Sound System, the Scientist, Mungos Hi 
 Fi , Zion Train, Twilight Circus Dub Sound System, Turntables on the H
 udson, Subatomic Sound, and many others.  Dub Mission every Sunday at 
 Elbo Room: www.dubmissionsf.com\n Dub Mission on Twitter: twitter.com/
 djsepdubmission \nDub Mission on Facebook: www.facebook.com/DubMission
 SF\nDub Mission videos on Youtube: www.youtube.com/dubmission\n\n\nFor
  more information visit http://trueskool.com/events/halloween-ish-dub-
 mission-feat-the-spit-brothers-full-band-with
DTSTART;TZID=America/Los_Angeles:20111030T220000
DTEND;TZID=America/Los_Angeles:20111031T020000
CATEGORIES:djs, san, francisco, nightlife, reggae, dub, dubstep, dance
 hall, roots, live, music, soundsystem, electronic
LOCATION:Elbo Room
WEBSITE:http://www.dubmissionsf.com
URL:http://www.dubmissionsf.com
CONTACT:415-552-7788
ORGANIZER;CN="DJ SEP":http://trueskool.com/profile/DJSEP
ATTACH;FMTTYPE="image/jpeg":http://storage.ning.com/topology/rest/1.0/
 file/get/2247906832?profile=original
ATTENDEE;ROLE=REQ-PARTICIPANT;PARTSTAT=ACCEPTED;RSVP=TRUE;CN="DJ SEP":
 http://trueskool.com/profile/DJSEP
END:VEVENT
END:VCALENDAR
