BEGIN:VCALENDAR
PRODID:NingEventWidget-v1
VERSION:2.0
METHOD:PUBLISH
BEGIN:VTIMEZONE
TZID:America/Los_Angeles
X-LIC-LOCATION:America/Los_Angeles
BEGIN:DAYLIGHT
TZOFFSETFROM:-0800
TZOFFSETTO:-0700
TZNAME:PDT
DTSTART:19700308T020000
RRULE:FREQ=YEARLY;BYMONTH=3;BYDAY=2SU
END:DAYLIGHT
BEGIN:STANDARD
TZOFFSETFROM:-0700
TZOFFSETTO:-0800
TZNAME:PST
DTSTART:19701101T020000
RRULE:FREQ=YEARLY;BYMONTH=11;BYDAY=1SU
END:STANDARD
END:VTIMEZONE
BEGIN:VEVENT
UID:1464587:Event:489993
DTSTAMP:20260420T170205Z
SUMMARY:GUILTY LIBERALS PRESENTS GIVING BACK PRE-PARTY
DESCRIPTION:Guilty Liberals Collective is a Bay Area-based “art” f
 amily consisting of visual artists, musicians and filmmakers. There ar
 e two missions of which the collective stand for: “to enable free sp
 eech/expression with no filter, wherever deemed fit” and “to serve
  the community by inspiring social change and uplift”.\n\nStone Rock
  , J-Scribe the Journeyman, Slice X RayReck, WiseChild, Sonny_B,
 , MaJiK MC, Darealwordsound, Auk5 \n\nFor more information visit h
 ttp://trueskool.com/events/guilty-liberals-presents-giving-back-pre-pa
 rty
DTSTART;TZID=America/Los_Angeles:20141219T200000
DTEND;TZID=America/Los_Angeles:20141220T000000
CATEGORIES:"#oakland", "#westoakland", "#westoaklandbart", "#mandela"
LOCATION:OneFam. Oakland
WEBSITE:
URL:
CONTACT:6502900812
ORGANIZER:Guilty Liberals Collective
ATTACH;FMTTYPE="image/jpeg":http://storage.ning.com/topology/rest/1.0/
 file/get/2247970976?profile=original
ATTENDEE;ROLE=REQ-PARTICIPANT;PARTSTAT=ACCEPTED;RSVP=TRUE;CN="Ahmed An
 imo":http://trueskool.com/profile/AhmedAnimo
END:VEVENT
END:VCALENDAR
