BEGIN:VCALENDAR
PRODID:NingEventWidget-v1
VERSION:2.0
METHOD:PUBLISH
BEGIN:VTIMEZONE
TZID:America/Los_Angeles
X-LIC-LOCATION:America/Los_Angeles
BEGIN:DAYLIGHT
TZOFFSETFROM:-0800
TZOFFSETTO:-0700
TZNAME:PDT
DTSTART:19700308T020000
RRULE:FREQ=YEARLY;BYMONTH=3;BYDAY=2SU
END:DAYLIGHT
BEGIN:STANDARD
TZOFFSETFROM:-0700
TZOFFSETTO:-0800
TZNAME:PST
DTSTART:19701101T020000
RRULE:FREQ=YEARLY;BYMONTH=11;BYDAY=1SU
END:STANDARD
END:VTIMEZONE
BEGIN:VEVENT
UID:1464587:Event:649496
DTSTAMP:20260421T011116Z
SUMMARY:Groove Theory (Thursdays)
DESCRIPTION:Every Thursday DJ Natural bring you Groove Theory!\nR&B an
 d Classic All Night help you Groove through your Thursday Night at Joh
 n Colins.\n9PM – 2AM\nABOUT DJ NATURAL @DjNatural is the resident of
  #groovethoerysf and well known in the bar club lounge circuit for ple
 asing and rocking crowds. Natural grew up djing house parties,park jam
 s and for artists throughout San Francisco. He got his start at City N
 ights and 330 ritch in the club nightlife scene and has since dj’s a
 cross the planet.\n\nFor more information visit http://trueskool.com/e
 vents/groove-theory-thursdays-1
DTSTART;TZID=America/Los_Angeles:20160526T210000
DTEND;TZID=America/Los_Angeles:20160527T020000
CATEGORIES:san, francisco, soma, financial, district
LOCATION:San Francisco, CA
WEBSITE:http://johncolins.com/events/groove-theory/
URL:http://johncolins.com/events/groove-theory/
CONTACT:(415) 512-7493
ORGANIZER;CN="John Colins":http://trueskool.com/profile/JohnColinsSF
ATTACH;FMTTYPE="image/jpeg":http://storage.ning.com/topology/rest/1.0/
 file/get/2106924700?profile=original
ATTENDEE;ROLE=REQ-PARTICIPANT;PARTSTAT=ACCEPTED;RSVP=TRUE;CN="John Col
 ins":http://trueskool.com/profile/JohnColinsSF
END:VEVENT
END:VCALENDAR
