BEGIN:VCALENDAR
PRODID:NingEventWidget-v1
VERSION:2.0
METHOD:PUBLISH
BEGIN:VTIMEZONE
TZID:America/Los_Angeles
X-LIC-LOCATION:America/Los_Angeles
BEGIN:DAYLIGHT
TZOFFSETFROM:-0800
TZOFFSETTO:-0700
TZNAME:PDT
DTSTART:19700308T020000
RRULE:FREQ=YEARLY;BYMONTH=3;BYDAY=2SU
END:DAYLIGHT
BEGIN:STANDARD
TZOFFSETFROM:-0700
TZOFFSETTO:-0800
TZNAME:PST
DTSTART:19701101T020000
RRULE:FREQ=YEARLY;BYMONTH=11;BYDAY=1SU
END:STANDARD
END:VTIMEZONE
BEGIN:VEVENT
UID:1464587:Event:662325
DTSTAMP:20260421T055801Z
SUMMARY:Thes-One (People Under the Stairs) / DJ Day / Tom Thump / DJ C
 entipede at The Great Northern
DESCRIPTION: ENTER TO WIN A PAIR OF TICKETS. WINNER WILL BE DRAWN RAND
 OMLY AND ANNOUNCED 2 DAYS PRIOR TO EVENT. \n SUNDAY, MAY 28 Great Nor
 thern presents  To The Beat Thes-One (People Under the Stairs) / DJ Da
 y / Tom Thump / DJ Centipede\nat The Great Northern 119 Utah St.  San 
 Francisco, CA Doors: 9:00 PM (ends at 2:00 AM) 21 and over $10 - $20 >
 > BUY TICKETS\n\n\nFor more information visit http://trueskool.com/eve
 nts/great-northern-presents-thes-one-people-under-the-stairs-dj-day-t
DTSTART;TZID=America/Los_Angeles:20170528T210000
DTEND;TZID=America/Los_Angeles:20170529T020000
CATEGORIES:"bay area", "san francisco"
LOCATION:The Great Northern, SF
WEBSITE:http://www.ticketfly.com/purchase/event/1475975?utm_source=fbT
 fly&utm_medium=ampOfficialEvent
URL:http://www.ticketfly.com/purchase/event/1475975?utm_source=fbTfly&
 utm_medium=ampOfficialEvent
CONTACT:
ORGANIZER:The Great Northern
ATTACH;FMTTYPE="image/jpeg":http://storage.ning.com/topology/rest/1.0/
 file/get/2106925655?profile=original
ATTENDEE;ROLE=REQ-PARTICIPANT;PARTSTAT=ACCEPTED;RSVP=TRUE;CN="Ren the 
 Vinyl Archaeologist":http://trueskool.com/profile/xh51jvilojur
END:VEVENT
END:VCALENDAR
