BEGIN:VCALENDAR
PRODID:NingEventWidget-v1
VERSION:2.0
METHOD:PUBLISH
BEGIN:VTIMEZONE
TZID:America/Los_Angeles
X-LIC-LOCATION:America/Los_Angeles
BEGIN:DAYLIGHT
TZOFFSETFROM:-0800
TZOFFSETTO:-0700
TZNAME:PDT
DTSTART:19700308T020000
RRULE:FREQ=YEARLY;BYMONTH=3;BYDAY=2SU
END:DAYLIGHT
BEGIN:STANDARD
TZOFFSETFROM:-0700
TZOFFSETTO:-0800
TZNAME:PST
DTSTART:19701101T020000
RRULE:FREQ=YEARLY;BYMONTH=11;BYDAY=1SU
END:STANDARD
END:VTIMEZONE
BEGIN:VEVENT
UID:1464587:Event:607328
DTSTAMP:20260421T025459Z
SUMMARY:{GRAND TOTAL} Soul + Funk + Hip-Hop + R&B -Good Vibes
DESCRIPTION:Allattractive Media x Oakland Faders - DJ Platurn presents
 :\n\nThat Good Ol' Soul | Hip-Hop | R&B | Funk ... All the Classics! 
 Intelligent Soul is the Vibe... ALL Night.DJ sets by Swang {Allattrac
 tive | IK]DJ Platurn [Oakland Faders | The 45 Sessions]W/ guestsDJ C
 horizo Funk [Body Rock ATX]andDJ Cutso [The Bangerz] Ladies FREE be
 fore 10:pm with RSVP at https://grandtotal.eventbrite.com/$5 Before 1
 0:pmCelebrating the Birthdays of Christina and Nenita!!!\n\n\nFor more
  information visit http://trueskool.com/events/grand-total-soul-funk-h
 ip-hop-r-b-good-vibes
DTSTART;TZID=America/Los_Angeles:20150227T210000
DTEND;TZID=America/Los_Angeles:20150228T020000
CATEGORIES:bay, area, oakland
LOCATION:Parliament, Oakland
WEBSITE:
URL:
CONTACT:
ORGANIZER;CN=ALLATTRACTIVE1:http://trueskool.com/profile/AllSoul
ATTACH;FMTTYPE="image/jpeg":http://storage.ning.com/topology/rest/1.0/
 file/get/2247975586?profile=original
ATTENDEE;ROLE=REQ-PARTICIPANT;PARTSTAT=ACCEPTED;RSVP=TRUE;CN=ALLATTRAC
 TIVE1:http://trueskool.com/profile/AllSoul
END:VEVENT
END:VCALENDAR
