BEGIN:VCALENDAR
PRODID:NingEventWidget-v1
VERSION:2.0
METHOD:PUBLISH
BEGIN:VTIMEZONE
TZID:America/Los_Angeles
X-LIC-LOCATION:America/Los_Angeles
BEGIN:DAYLIGHT
TZOFFSETFROM:-0800
TZOFFSETTO:-0700
TZNAME:PDT
DTSTART:19700308T020000
RRULE:FREQ=YEARLY;BYMONTH=3;BYDAY=2SU
END:DAYLIGHT
BEGIN:STANDARD
TZOFFSETFROM:-0700
TZOFFSETTO:-0800
TZNAME:PST
DTSTART:19701101T020000
RRULE:FREQ=YEARLY;BYMONTH=11;BYDAY=1SU
END:STANDARD
END:VTIMEZONE
BEGIN:VEVENT
UID:1464587:Event:624566
DTSTAMP:20260421T020022Z
SUMMARY:{GRAND TOTAL} Soul + Funk + Hip-Hop + R&B -Good Vibes
DESCRIPTION:RAND TOTAL | MARCH 27TH 2015 | 9 PM - 2 AMOld School Soul 
 | Hip-Hop | R&B | Funk | Strictly Classics LADIES FREE B4 11 PM W/RSV
 P @ www.bit.ly/1FQeW97----->with special guest...DJ VINROC (TRIPLE TH
 REATS DJs | www.thatsthatstuff.comwww.twitter.com/vinrocwww.mixcrate.
 com/vinrocwww.soundcloud.com/vinroc+ your resident DJs...DJ Platurn [O
 akland Faders | The 45 Sessions]Swang [Allattractive | IK]Hosted by Aa
 ron Miller Allattractive]----->www.811parliament.com811 Washington St
 .Old Oakland -- CA All Day, USA\n\n\nFor more information visit http:/
 /trueskool.com/events/grand-total-soul-funk-hip-hop-r-b-good-vibes-1
DTSTART;TZID=America/Los_Angeles:20150327T210000
DTEND;TZID=America/Los_Angeles:20150328T020000
CATEGORIES:bay, area, oakland, old, downtown
LOCATION:Parliament, Oakland
WEBSITE:http://grandtotal1.eventbrite.com
URL:http://grandtotal1.eventbrite.com
CONTACT:
ORGANIZER;CN=ALLATTRACTIVE1:http://trueskool.com/profile/AllSoul
ATTACH;FMTTYPE="image/jpeg":http://storage.ning.com/topology/rest/1.0/
 file/get/2247974927?profile=original
ATTENDEE;ROLE=REQ-PARTICIPANT;PARTSTAT=ACCEPTED;RSVP=TRUE;CN=ALLATTRAC
 TIVE1:http://trueskool.com/profile/AllSoul
END:VEVENT
END:VCALENDAR
