BEGIN:VCALENDAR
PRODID:NingEventWidget-v1
VERSION:2.0
METHOD:PUBLISH
BEGIN:VTIMEZONE
TZID:America/Los_Angeles
X-LIC-LOCATION:America/Los_Angeles
BEGIN:DAYLIGHT
TZOFFSETFROM:-0800
TZOFFSETTO:-0700
TZNAME:PDT
DTSTART:19700308T020000
RRULE:FREQ=YEARLY;BYMONTH=3;BYDAY=2SU
END:DAYLIGHT
BEGIN:STANDARD
TZOFFSETFROM:-0700
TZOFFSETTO:-0800
TZNAME:PST
DTSTART:19701101T020000
RRULE:FREQ=YEARLY;BYMONTH=11;BYDAY=1SU
END:STANDARD
END:VTIMEZONE
BEGIN:VEVENT
UID:1464587:Event:64740
DTSTAMP:20260420T121355Z
SUMMARY:Grand Opening of Audiolicious
DESCRIPTION:Socialite Promotions presents the grand opening of Audioli
 cious! The newest monthly Saturday Hip Hop party at Anu Lounge in San 
 Francisco! Audiolicious will be unlike any Saturday night party in the
  city! Leave the pretentious attitude and dress codes at home! Audioli
 cious is bringing back the casual and laid back no dress code \"house 
 party\" vibe to San Francisco!\n\nDroppin the hottest Hip Hop, R&B, Re
 ggae and Old School “Golden Era” Hip Hop classics!\nFeaturing two 
 of San Francisco’s favorite Hip Hop DJs:\nDJ Tactics\nDJ Twin Spin\n
 \nAnu Lounge is located at 43 Sixth Street (Between Mission & Market S
 treet) in San Francisco! www.Anu-Bar.com\n\nWe are creating a fun, lai
 d back “house party” vibe so there is NO COVER CHARGE ALL NIGHT WI
 TH GUEST LIST OR RSVP and NO DRESS CODE! Just great beats, great drink
 s and great vibes!\n\nTo be included on our FREE ALL NIGHT guest list,
  please email your full names to: Anu@SocialitePro.com and please also
  state how you found out about this event! We’ll see you on Saturday
 , August 28th at Audiolicious inside Anu Lounge in San Francisco!\n\nF
 or more information visit http://trueskool.com/events/grand-opening-of
 -audiolicious
DTSTART;TZID=America/Los_Angeles:20100828T220000
DTEND;TZID=America/Los_Angeles:20100829T020000
CATEGORIES:san, francisco, ca
LOCATION:Anu Lounge, San Francisco, CA
WEBSITE:http://anu-bar.com
URL:http://anu-bar.com
CONTACT:
ORGANIZER;CN="Socialite Promotions":http://trueskool.com/profile/Socia
 litePromotions
ATTACH;FMTTYPE="image/jpeg":http://storage.ning.com/topology/rest/1.0/
 file/get/2247893225?profile=original
ATTENDEE;ROLE=REQ-PARTICIPANT;PARTSTAT=ACCEPTED;RSVP=TRUE;CN="Socialit
 e Promotions":http://trueskool.com/profile/SocialitePromotions
END:VEVENT
END:VCALENDAR
