BEGIN:VCALENDAR
PRODID:NingEventWidget-v1
VERSION:2.0
METHOD:PUBLISH
BEGIN:VTIMEZONE
TZID:America/Los_Angeles
X-LIC-LOCATION:America/Los_Angeles
BEGIN:DAYLIGHT
TZOFFSETFROM:-0800
TZOFFSETTO:-0700
TZNAME:PDT
DTSTART:19700308T020000
RRULE:FREQ=YEARLY;BYMONTH=3;BYDAY=2SU
END:DAYLIGHT
BEGIN:STANDARD
TZOFFSETFROM:-0700
TZOFFSETTO:-0800
TZNAME:PST
DTSTART:19701101T020000
RRULE:FREQ=YEARLY;BYMONTH=11;BYDAY=1SU
END:STANDARD
END:VTIMEZONE
BEGIN:VEVENT
UID:1464587:Event:625281
DTSTAMP:20260420T213203Z
SUMMARY:Gramatik
DESCRIPTION:Gramatik with guests: Gibbz & Russ Liquid Great Dane\n\n\n
 Venue:\nMezzanine\n\nLocation:\nSan Francisco, CA\n\nShow Date:\nWedne
 sday, April 15\n\nShow Time:\n9:00PM\n\nOn Sale Date:\nFriday, Februar
 y 20\n\nTicket Price:\n$20.00 - Early Bird General Admission$28.00 - G
 eneral Admission***plus applicable service fees**available when Early 
 Bird tickets are sold out\nTickets are also available service charge f
 ree at The Fox Theater's Box Office (located on the 19th street side o
 f the theater) on show dates and on Fridays from noon - 7:00pm.\nThe g
 eneral on sale begins Friday, February 20th at 10am!\n\n\n\n\n\nFor mo
 re information visit http://trueskool.com/events/gramatik
DTSTART;TZID=America/Los_Angeles:20150415T210000
DTEND;TZID=America/Los_Angeles:20150415T230000
CATEGORIES:"san francisco", oakland, berkley, "san jose", "bay area"
LOCATION:The Independent, San Francisco, CA
WEBSITE:http://www.ticketmaster.com/event/1C004E5397A349AC?brand=anoth
 erplanet&camefrom=CFC_ANOTHERPLANET
URL:http://www.ticketmaster.com/event/1C004E5397A349AC?brand=anotherpl
 anet&camefrom=CFC_ANOTHERPLANET
CONTACT:
ORGANIZER;CN="Editor's Pick":http://trueskool.com/profile/RentheVinylA
 rchaeologist
ATTACH;FMTTYPE="image/jpeg":http://storage.ning.com/topology/rest/1.0/
 file/get/2247975027?profile=original
ATTENDEE;ROLE=REQ-PARTICIPANT;PARTSTAT=ACCEPTED;RSVP=TRUE;CN=Frost:htt
 p://trueskool.com/profile/Frost
ATTENDEE;ROLE=REQ-PARTICIPANT;PARTSTAT=ACCEPTED;RSVP=TRUE;CN="Editor's
  Pick":http://trueskool.com/profile/RentheVinylArchaeologist
END:VEVENT
END:VCALENDAR
