BEGIN:VCALENDAR
PRODID:NingEventWidget-v1
VERSION:2.0
METHOD:PUBLISH
BEGIN:VTIMEZONE
TZID:America/Los_Angeles
X-LIC-LOCATION:America/Los_Angeles
BEGIN:DAYLIGHT
TZOFFSETFROM:-0800
TZOFFSETTO:-0700
TZNAME:PDT
DTSTART:19700308T020000
RRULE:FREQ=YEARLY;BYMONTH=3;BYDAY=2SU
END:DAYLIGHT
BEGIN:STANDARD
TZOFFSETFROM:-0700
TZOFFSETTO:-0800
TZNAME:PST
DTSTART:19701101T020000
RRULE:FREQ=YEARLY;BYMONTH=11;BYDAY=1SU
END:STANDARD
END:VTIMEZONE
BEGIN:VEVENT
UID:1464587:Event:640667
DTSTAMP:20260420T164340Z
SUMMARY:GOLDLINK
DESCRIPTION:GOLDLINKTuesday, March 1, 2016Doors: 7:00PM |Show: 8:00PM1
 270 Sutter StreetSan Francisco, CA 94105414-777-1715SOCIAL HALL SF\n\n
 \nFor more information visit http://trueskool.com/events/goldlink
DTSTART;TZID=America/Los_Angeles:20160301T200000
DTEND;TZID=America/Los_Angeles:20160301T230000
CATEGORIES:"san francisco", oakland, berkley, "san jose", "bay area"
LOCATION:Social Hall, San Francisco
WEBSITE:http://www.axs.com/events/304184/goldlink-tickets?skin=goldenv
 oice
URL:http://www.axs.com/events/304184/goldlink-tickets?skin=goldenvoice
CONTACT:
ORGANIZER;CN="Editor's Pick":http://trueskool.com/profile/RentheVinylA
 rchaeologist
ATTACH;FMTTYPE="image/jpeg":http://storage.ning.com/topology/rest/1.0/
 file/get/2247982931?profile=original
ATTENDEE;ROLE=REQ-PARTICIPANT;PARTSTAT=ACCEPTED;RSVP=TRUE;CN="Editor's
  Pick":http://trueskool.com/profile/RentheVinylArchaeologist
END:VEVENT
END:VCALENDAR
