BEGIN:VCALENDAR
PRODID:NingEventWidget-v1
VERSION:2.0
METHOD:PUBLISH
BEGIN:VTIMEZONE
TZID:America/Los_Angeles
X-LIC-LOCATION:America/Los_Angeles
BEGIN:DAYLIGHT
TZOFFSETFROM:-0800
TZOFFSETTO:-0700
TZNAME:PDT
DTSTART:19700308T020000
RRULE:FREQ=YEARLY;BYMONTH=3;BYDAY=2SU
END:DAYLIGHT
BEGIN:STANDARD
TZOFFSETFROM:-0700
TZOFFSETTO:-0800
TZNAME:PST
DTSTART:19701101T020000
RRULE:FREQ=YEARLY;BYMONTH=11;BYDAY=1SU
END:STANDARD
END:VTIMEZONE
BEGIN:VEVENT
UID:1464587:Event:397795
DTSTAMP:20260421T021918Z
SUMMARY:GOLDEN ERA (1st Saturdays) w/ Ren the Vinyl Archaeologist @ Sl
 ate Bar SF (Sat 8/2)
DESCRIPTION:\nSATURDAY AUG 2 True Skool presents GOLDEN ERA (1st Satur
 days) A Tribute to Classics From Hip Hop's Golden Era\n\nFeaturing: Re
 n the Vinyl Archaeologist plus special guest\nDJ Smoky (King of Kings)
 \n\n@ Slate Bar, 2925 16th St., San Francisco 10pm-2am | 21+\nFREE B4 
 11PM, $5 AFTER  RSVP HERE: https://www.facebook.com/events/5931797541
 28305\n\nFor more information visit http://trueskool.com/events/golden
 -era-1st-saturdays-w-ren-the-vinyl-archaeologist-slate-bar-
DTSTART;TZID=America/Los_Angeles:20140906T220000
DTEND;TZID=America/Los_Angeles:20140907T020000
CATEGORIES:"bay area", "san francisco"
LOCATION:Slate Bar, San Francisco
WEBSITE:https://www.facebook.com/events/593179754128305
URL:https://www.facebook.com/events/593179754128305
CONTACT:
ORGANIZER:True Skool
ATTACH;FMTTYPE="image/jpeg":http://storage.ning.com/topology/rest/1.0/
 file/get/2247966066?profile=original
ATTENDEE;ROLE=REQ-PARTICIPANT;PARTSTAT=ACCEPTED;RSVP=TRUE;CN="Editor's
  Pick":http://trueskool.com/profile/RentheVinylArchaeologist
END:VEVENT
END:VCALENDAR
