BEGIN:VCALENDAR
PRODID:NingEventWidget-v1
VERSION:2.0
METHOD:PUBLISH
BEGIN:VTIMEZONE
TZID:America/Los_Angeles
X-LIC-LOCATION:America/Los_Angeles
BEGIN:DAYLIGHT
TZOFFSETFROM:-0800
TZOFFSETTO:-0700
TZNAME:PDT
DTSTART:19700308T020000
RRULE:FREQ=YEARLY;BYMONTH=3;BYDAY=2SU
END:DAYLIGHT
BEGIN:STANDARD
TZOFFSETFROM:-0700
TZOFFSETTO:-0800
TZNAME:PST
DTSTART:19701101T020000
RRULE:FREQ=YEARLY;BYMONTH=11;BYDAY=1SU
END:STANDARD
END:VTIMEZONE
BEGIN:VEVENT
UID:1464587:Event:606736
DTSTAMP:20260420T190845Z
SUMMARY:GOLDEN ERA (1st Saturdays) w/ Ren the Vinyl Archaeologist @ Sl
 ate Bar SF (Sat 5/2)
DESCRIPTION:\nSATURDAY MAY 4 True Skool presents GOLDEN ERA (1st Satur
 days) A Tribute to Classics From Hip Hop's Golden Era\n\nFEATURING:\nR
 en the Vinyl Archaeologist\nw/ special guests\n\n@ Slate Bar, 2925 16t
 h St., San Francisco 10pm-2am | 21+\nFREE B4 11PM, $5 AFTER \n\nFor m
 ore information visit http://trueskool.com/events/golden-era-1st-satur
 days-w-ren-the-vinyl-archaeologist-slate-ba-1
DTSTART;TZID=America/Los_Angeles:20150502T220000
DTEND;TZID=America/Los_Angeles:20150503T020000
CATEGORIES:"bay area", "san francisco"
LOCATION:Slate Bar, San Francisco
WEBSITE:https://goldenera-apr2015.eventbrite.com
URL:https://goldenera-apr2015.eventbrite.com
CONTACT:
ORGANIZER:True Skool
ATTACH;FMTTYPE="image/jpeg":http://storage.ning.com/topology/rest/1.0/
 file/get/2247971283?profile=original
ATTENDEE;ROLE=REQ-PARTICIPANT;PARTSTAT=ACCEPTED;RSVP=TRUE;CN="Editor's
  Pick":http://trueskool.com/profile/RentheVinylArchaeologist
ATTENDEE;ROLE=REQ-PARTICIPANT;PARTSTAT=ACCEPTED;RSVP=TRUE;CN=Kimberly:
 http://trueskool.com/profile/Kimberly
END:VEVENT
END:VCALENDAR
