BEGIN:VCALENDAR
PRODID:NingEventWidget-v1
VERSION:2.0
METHOD:PUBLISH
BEGIN:VTIMEZONE
TZID:America/Los_Angeles
X-LIC-LOCATION:America/Los_Angeles
BEGIN:DAYLIGHT
TZOFFSETFROM:-0800
TZOFFSETTO:-0700
TZNAME:PDT
DTSTART:19700308T020000
RRULE:FREQ=YEARLY;BYMONTH=3;BYDAY=2SU
END:DAYLIGHT
BEGIN:STANDARD
TZOFFSETFROM:-0700
TZOFFSETTO:-0800
TZNAME:PST
DTSTART:19701101T020000
RRULE:FREQ=YEARLY;BYMONTH=11;BYDAY=1SU
END:STANDARD
END:VTIMEZONE
BEGIN:VEVENT
UID:1464587:Event:651469
DTSTAMP:20260420T134753Z
SUMMARY:Goapele at Mezzanine
DESCRIPTION:\nAnother Planet Entertainment Presents\nGOAPELE\n21+ •
  + more to be announced!\n\nGoapele (pronounced gwa-puh-lay), which m
 eans “to move forward” in Setswana has been doing just that, movin
 g forward and making her presence felt in the music industry since 200
 1 as an American soul and R&B singer/songwriter. Goapele’s upbringin
 g in her hometown of Oakland, California combined with ethnic influenc
 es from her South African father and New York-born Israeli Jewish moth
 er have created a unique artist with a passion for her music and her c
 ommunity. Once called the “spiritual love child of Sade and D’Ange
 lo” by Rolling Stone magazine, Goapele has both a sensuous and serio
 us voice that is making a difference in the music world by blending ge
 nres including jazz, soul, and hip-hop, infused with her own poetry. F
 ollowing her time getting an education at Berklee College of Music, Go
 apele debuted her musical talent with a self-released album Closer in 
 2001. At its peak, Closer was #63 on Billboard’s Top R&B/Hip Hop Alb
 ums chart. This would not be her only taste of the Billboard ranks. In
  2004, her first nationally distributed album, Even Closer, reached #2
 4 on the Billboard Charts for Top Independent Albums. Her other Billbo
 ard accolades include her 2006 album, Change it All, which was both #3
 2 on the Billboard Top R&B/Hip-Hop Album chart and #2 on the Top Heats
 eekers, while the single “First Love” reached #18 on the Hot Adult
  R&B Airplay. Goapele’s love and passion for the world pours out int
 o her music and her “smoky and sensual” voice, as described by Bil
 lboard magazine, is sure to make your day.\n\n\n\nFor more information
  visit http://trueskool.com/events/goapele-at-mezzanine
DTSTART;TZID=America/Los_Angeles:20160917T203000
DTEND;TZID=America/Los_Angeles:20160918T020000
CATEGORIES:"san francisco", "bay area"
LOCATION:Mezzanine, San Francisco
WEBSITE:http://mezzaninesf.com/events/goapele/
URL:http://mezzaninesf.com/events/goapele/
CONTACT:415.625.8880
ORGANIZER:Another Planet Entertainment
ATTACH;FMTTYPE="image/jpeg":http://storage.ning.com/topology/rest/1.0/
 file/get/2247989849?profile=original
ATTENDEE;ROLE=REQ-PARTICIPANT;PARTSTAT=ACCEPTED;RSVP=TRUE;CN=Mezzanine
 SF:http://trueskool.com/profile/MezzanineSF
END:VEVENT
END:VCALENDAR
