BEGIN:VCALENDAR
PRODID:NingEventWidget-v1
VERSION:2.0
METHOD:PUBLISH
BEGIN:VTIMEZONE
TZID:America/Los_Angeles
X-LIC-LOCATION:America/Los_Angeles
BEGIN:DAYLIGHT
TZOFFSETFROM:-0800
TZOFFSETTO:-0700
TZNAME:PDT
DTSTART:19700308T020000
RRULE:FREQ=YEARLY;BYMONTH=3;BYDAY=2SU
END:DAYLIGHT
BEGIN:STANDARD
TZOFFSETFROM:-0700
TZOFFSETTO:-0800
TZNAME:PST
DTSTART:19701101T020000
RRULE:FREQ=YEARLY;BYMONTH=11;BYDAY=1SU
END:STANDARD
END:VTIMEZONE
BEGIN:VEVENT
UID:1464587:Event:661086
DTSTAMP:20260421T204838Z
SUMMARY:GOAPELE
DESCRIPTION:The Bay Area's perfect fusion of soul, hip-hop and jazz:\n
 GOAPELE\nThu, May 18, 2017\nDoors: 7:30 PM / Show: 8:00 PM Yoshi's Oak
 land Oakland, CA $29.00 - $34.00\nDoors: 9:45 PM / Show: 10:00 PM Yosh
 i's Oakland Oakland, CA $29.00 - $34.00\nFri, May 19, 2017\nDoors: 7:3
 0 PM / Show: 8:00 PM Yoshi's Oakland Oakland, CA $34.00\nDoors: 9:45 P
 M / Show: 10:00 PM Yoshi's Oakland Oakland, CA $34.00\nSat, May 20, 20
 17\nDoors: 7:00 PM / Show: 7:30 PM Yoshi's Oakland Oakland, CA $42.00\
 nDoors: 9:15 PM / Show: 9:30 PM Yoshi's Oakland Oakland, CA $42.00\nSu
 n, May 21, 2017\nDoors: 5:30 PM / Show: 6:00 PM Yoshi's Oakland Oaklan
 d, CA $34.00\nDoors: 7:45 PM / Show: 8:00 PM Yoshi's Oakland Oakland, 
 CA $34.00\n\nFor more information visit http://trueskool.com/events/go
 apele-8
DTSTART;TZID=America/Los_Angeles:20170518T200000
DTEND;TZID=America/Los_Angeles:20170521T233000
CATEGORIES:"san francisco", oakland, berkley, "san jose", "bay area"
LOCATION:Yoshi's, Oakland
WEBSITE:http://www.yoshis.com/search/?q=GOAPELE
URL:http://www.yoshis.com/search/?q=GOAPELE
CONTACT:
ORGANIZER;CN="Editor's Pick":http://trueskool.com/profile/RentheVinylA
 rchaeologist
ATTACH;FMTTYPE="image/jpeg":http://storage.ning.com/topology/rest/1.0/
 file/get/2247995117?profile=original
ATTENDEE;ROLE=REQ-PARTICIPANT;PARTSTAT=ACCEPTED;RSVP=TRUE;CN="Editor's
  Pick":http://trueskool.com/profile/RentheVinylArchaeologist
END:VEVENT
END:VCALENDAR
