BEGIN:VCALENDAR
PRODID:NingEventWidget-v1
VERSION:2.0
METHOD:PUBLISH
BEGIN:VTIMEZONE
TZID:America/Los_Angeles
X-LIC-LOCATION:America/Los_Angeles
BEGIN:DAYLIGHT
TZOFFSETFROM:-0800
TZOFFSETTO:-0700
TZNAME:PDT
DTSTART:19700308T020000
RRULE:FREQ=YEARLY;BYMONTH=3;BYDAY=2SU
END:DAYLIGHT
BEGIN:STANDARD
TZOFFSETFROM:-0700
TZOFFSETTO:-0800
TZNAME:PST
DTSTART:19701101T020000
RRULE:FREQ=YEARLY;BYMONTH=11;BYDAY=1SU
END:STANDARD
END:VTIMEZONE
BEGIN:VEVENT
UID:1464587:Event:63719
DTSTAMP:20260420T170042Z
SUMMARY:Go BANG! SAT/08/28/10 with Cole Medina, Brent Crampton, Steve 
 Fabus, Tres Lingerie & Sergio!
DESCRIPTION:Go BANG!\nATOMIC DANCEFLOOR DISCO ACTION!\nSATURDAY AUGUST
  28, 2010\nDECO LOUNGE / 510 Larkin & Turk\n9P-LATE! / $5 + FREE BEFOR
 E 10 + FREE BEFORE 11 with RSVP at Going: http://sanfrancisco.going.co
 m/gobang\n\n**Special Guests: Cole Medina (House Arrest, LA) & Sergio 
 V\n*Featuring: Brent Crampton\n*Residents: Steve Fabus, Sergio Fedasz,
  Tres Lingerie\n*Co-Pro/Hosted By: Stephen !YOUGUYS!\n*PHOTOS BY: Darw
 in Bell\n\n\n**Got a birthday that weekend?! Get in touch with us and 
 we'll help you celebrate it with a BANG!**\n\nSan Francisco has a dive
 rse disco scene that often crosses over but not often enough! The goal
  of Go BANG! is to bring the crews and their devoted dancers together 
 in a mixed, diverse, exciting environment, with a nod to the diversity
  and freedom of the 70's/80's San Francisco/New York/Chicago disco nig
 htlife!\n\nDisco freaks, art school boys & girls, drag queens & kings,
  boogie-heads, fierce dancers, flashy dressers, sexy girls, hot boys, 
 DJs, dancers, photographers, artists, fashionistas; gay/straight/bi/tr
 i/whateva! Bring your flashiest, trashiest, classiest, sexiest, crazie
 st style; but bring an open mind, big smile, and shoes that will allow
  you to dance from opening to last call! We will start with fire and e
 nd with fire!\n\nTaking inspiration from the classic Dinosaur L. song\
 n\"I wanna see all my friends at once\nI'll do anything to get a chanc
 e to\nGoooo BANG!\"\n\nGo BANG! on FACEBOOK: http://www.facebook.com/G
 oBANGSF\nGo BANG! online: http://www.gobangsf.com\n\n==\n\n**Special G
 uest: Cole Medina (House Arrest, LA) & Sergio V**\nDJ & Producer Cole 
 Medina has been in DJs' boxes for years now, since 2002's breakthrough
  hiphouse \"Buffalo Bill / Do What You Like\" bootleg. Currently, Cole
  is doing more sleazy disco re-edits, including his re-edits of Olivia
  Newton John's \"Magic\" & The BeeGees' \"Love You Inside Out\" on Ame
 rican Standard. Together, Cole & Sergio V make a power DJ duo which wi
 ll turn the Disco out!\n\n**Featuring: Brent Crampton**\nWhile Brent C
 rampton may be a white boy born and raised in the Midwest, his soul an
 d music selection is more akin to the spirit that was shared on the da
 nce floors of the Paradise Garage. His study of what was happening wit
 h Disco in the late and early 80's led this 26-year-old DJ to a fascin
 ation of dance music from a pre-house perspective. From the stories, m
 emories and energy of parties such as the Garage and The Loft, Crampto
 n went to to create Omaha, Nebraska's longest running dance celebratio
 n titled, \"loom—Weaving the Social Fabric Through Dance.\" Guests s
 uch as Raven Fox (Disco Hall of Fame), Jeremy Sole, Ala, Nickodemus, j
 ojoflores and Hallex.M have all graced the decks at loom. Crampton's w
 ork as a DJ went on to be recognized with various awards, such as Best
  DJ in 2006-2008 for the Omaha Entertainment & Arts Awards, Scion/Imee
 m Breakthrough Emerging Artist in 2006 and named one of Omaha, Nebrask
 a's top artists of the year in 2009 by The Reader. Making his debut in
  San Francisco at Go BANG!, music has taken him throughout North Ameri
 ca and beyond, having performed in locales such as London, Mexico, NYC
 , Chicago, Miami, Montreal, Las Vegas, Boston and Hawaii. \"As being t
 he roots of house music and what later spawned into all sorts of elect
 ronic dance music, it's great to have Disco parties like Go BANG! that
  preserve and celebrate such an influential sound,\" says Crampton.\n\
 nFor more information visit http://trueskool.com/events/go-bang-sat082
 810-with-cole
DTSTART;TZID=America/Los_Angeles:20100828T210000
DTEND;TZID=America/Los_Angeles:20100829T030000
CATEGORIES:san, francisco
LOCATION:DECO LOUNGE, San Francisco, CA
WEBSITE:http://www.gobangsf.com/
URL:http://www.gobangsf.com/
CONTACT:
ORGANIZER;CN=Sergio:http://trueskool.com/profile/Sergio
ATTACH;FMTTYPE="image/jpeg":http://storage.ning.com/topology/rest/1.0/
 file/get/2247882703?profile=original
ATTENDEE;ROLE=REQ-PARTICIPANT;PARTSTAT=ACCEPTED;RSVP=TRUE;CN=Sergio:ht
 tp://trueskool.com/profile/Sergio
END:VEVENT
END:VCALENDAR
