BEGIN:VCALENDAR
PRODID:NingEventWidget-v1
VERSION:2.0
METHOD:PUBLISH
BEGIN:VTIMEZONE
TZID:America/Los_Angeles
X-LIC-LOCATION:America/Los_Angeles
BEGIN:DAYLIGHT
TZOFFSETFROM:-0800
TZOFFSETTO:-0700
TZNAME:PDT
DTSTART:19700308T020000
RRULE:FREQ=YEARLY;BYMONTH=3;BYDAY=2SU
END:DAYLIGHT
BEGIN:STANDARD
TZOFFSETFROM:-0700
TZOFFSETTO:-0800
TZNAME:PST
DTSTART:19701101T020000
RRULE:FREQ=YEARLY;BYMONTH=11;BYDAY=1SU
END:STANDARD
END:VTIMEZONE
BEGIN:VEVENT
UID:1464587:Event:90768
DTSTAMP:20260420T153505Z
SUMMARY:**Go BANG! SAT/07/23 with Pat Les Stache, MyKill, Kuze & MORE!
  Atomic Dancefloor DISCO Action!**
DESCRIPTION:\n**Birthday Celebration and remembrance of the Music & Le
 gacy of Larry Levan, who would have been 56.***\nGo BANG!Atomic Dancef
 loor DISCO Action!http://www.facebook.com/event.php?eid=11514355190874
 9SATURDAY July 23, 2011DECO LOUNGE / 510 Larkin & Turk St.9P-LATE! / $
 5 + FREE BEFORE 10**Special Guest: PAT LES STACHE (American Athlete / 
 Cabana Disco) http://americanathlete.blogspot.com**Special Guest: MYKI
 LL (http://www.solidbump.com) **Special Guest: KUZE (http://www.facebo
 ok.com/steve.kuzmic)**Residents STEVE FABUS & SERGIO*Co-Pro/Hosted By:
  STEPHEN !YOUGUYS!*Photos By: Darwin Bell*Coats By: Alexandra & Jon*Ar
 tistic Director/Decoration Guru: Ronald Johnson*DRINK SPECIALS: $2 PBR
 , $3.75 Jaeger, $3.75 Vodka Cranberry, $5 Skyy Ginger & Ginger Ale**Go
 t a birthday that weekend?! Get in touch with us and we'll help you ce
 lebrate it with a BANG!** San Francisco has a diverse disco scene that
  often crosses over but not often enough! The goal of Go BANG! is to b
 ring the crews and their devoted dancers together in a mixed, diverse,
  exciting environment, with a nod to the diversity and freedom of the 
 70's/80's San Francisco/New York/Chicago disco nightlife!Disco freaks,
  art school boys & girls, drag queens & kings, boogie-heads, fierce da
 ncers, flashy dressers, sexy girls, hot boys, DJs, dancers, photograph
 ers, artists, fashionistas; gay/straight/bi/tri/whateva! Bring your fl
 ashiest, trashiest, classiest, sexiest, craziest style; but bring an o
 pen mind, big smile, and shoes that will allow you to dance from openi
 ng to last call! We will start with fire and end with fire!Taking insp
 iration from the classic Dinosaur L. song\"I wanna see all my friends 
 at onceI'll do anything to get a chance toGoooo BANG!\"Go BANG! on FAC
 EBOOK: http://www.facebook.com/GoBANGSFGo BANG! online: http://www.gob
 angsf.com\n\nFor more information visit http://trueskool.com/events/go
 -bang-sat-07-23-with-pat
DTSTART;TZID=America/Los_Angeles:20110723T210000
DTEND;TZID=America/Los_Angeles:20110724T030000
CATEGORIES:san, francisco, ca
LOCATION:Deco Lounge, San Francisco, CA
WEBSITE:http://www.facebook.com/event.php?eid=115143551908749
URL:http://www.facebook.com/event.php?eid=115143551908749
CONTACT:
ORGANIZER;CN=Sergio:http://trueskool.com/profile/Sergio
ATTACH;FMTTYPE="image/jpeg":http://storage.ning.com/topology/rest/1.0/
 file/get/2247899157?profile=original
ATTENDEE;ROLE=REQ-PARTICIPANT;PARTSTAT=ACCEPTED;RSVP=TRUE;CN=Sergio:ht
 tp://trueskool.com/profile/Sergio
END:VEVENT
END:VCALENDAR
