BEGIN:VCALENDAR
PRODID:NingEventWidget-v1
VERSION:2.0
METHOD:PUBLISH
BEGIN:VTIMEZONE
TZID:America/Los_Angeles
X-LIC-LOCATION:America/Los_Angeles
BEGIN:DAYLIGHT
TZOFFSETFROM:-0800
TZOFFSETTO:-0700
TZNAME:PDT
DTSTART:19700308T020000
RRULE:FREQ=YEARLY;BYMONTH=3;BYDAY=2SU
END:DAYLIGHT
BEGIN:STANDARD
TZOFFSETFROM:-0700
TZOFFSETTO:-0800
TZNAME:PST
DTSTART:19701101T020000
RRULE:FREQ=YEARLY;BYMONTH=11;BYDAY=1SU
END:STANDARD
END:VTIMEZONE
BEGIN:VEVENT
UID:1464587:Event:490173
DTSTAMP:20260420T170040Z
SUMMARY:GIVING BACK: GUILTY LIBERALS LAUNCH PARTY
DESCRIPTION:THIS SHOW WILL BE FREE! BUT FOR THE HOLIDAY SEASON WE'LL B
 E DOING A TOY/CLOTHING DRIVE TO GIVE BACK TO THE COMMUNITY! (HENCE THE
  TITLE OF THE EVENT)  Sets by:  Dregs One  (Gas Mask Colony, UZN All 
 Tribes SF) https://soundcloud.com/dregsone  a.K.aye  (Guilty Liberals
 , NMLS, UZN All Tribes SF) https://soundcloud.com/alsoknownasakaye  Da
 realwordsound (NMLS)  https://soundcloud.com/darealwordsound  MaJiK M
 C  (NMLS, Sonny B Creative) https://soundcloud.com/majikmc  Ikabod Bu
 m (RAW DATA) https://soundcloud.com/ikabod-bum  Noise  (Dire Producti
 ons) https://soundcloud.com/therealnoise  Forcee the KID  (NMLS, GUIL
 TY LIBERALS) https://soundcloud.com/forcee-the-kid  Thought Provoka (G
 UILTY LIBERALS) https://soundcloud.com/thoughtprovoka  SC Cypher Sessi
 ons  Hosted by  $*O*A*R* https://soundcloud.com/sonofarevolutionary  
 Sponsored by Guilty Liberals\n\nFor more information visit http://true
 skool.com/events/giving-back-guilty-liberals-launch-party
DTSTART;TZID=America/Los_Angeles:20141220T170000
DTEND;TZID=America/Los_Angeles:20141220T220000
CATEGORIES:"#sanfrancisco", "#outersunset", "#oceanbeach"
LOCATION:The Honey Hive Gallery
WEBSITE:https://www.facebook.com/events/548975675245998/
URL:https://www.facebook.com/events/548975675245998/
CONTACT:6502900812
ORGANIZER:Guilty Liberals Collective
ATTACH;FMTTYPE="image/jpeg":http://storage.ning.com/topology/rest/1.0/
 file/get/2247971530?profile=original
ATTENDEE;ROLE=REQ-PARTICIPANT;PARTSTAT=ACCEPTED;RSVP=TRUE;CN="Ahmed An
 imo":http://trueskool.com/profile/AhmedAnimo
END:VEVENT
END:VCALENDAR
